BEGIN:VCALENDAR
VERSION:2.0
PRODID:-//Social Practice CUNY - ECPv6.15.20//NONSGML v1.0//EN
CALSCALE:GREGORIAN
METHOD:PUBLISH
X-ORIGINAL-URL:https://socialpracticecuny.org
X-WR-CALDESC:Events for Social Practice CUNY
REFRESH-INTERVAL;VALUE=DURATION:PT1H
X-Robots-Tag:noindex
X-PUBLISHED-TTL:PT1H
BEGIN:VTIMEZONE
TZID:America/New_York
BEGIN:DAYLIGHT
TZOFFSETFROM:-0500
TZOFFSETTO:-0400
TZNAME:EDT
DTSTART:20230312T070000
END:DAYLIGHT
BEGIN:STANDARD
TZOFFSETFROM:-0400
TZOFFSETTO:-0500
TZNAME:EST
DTSTART:20231105T060000
END:STANDARD
BEGIN:DAYLIGHT
TZOFFSETFROM:-0500
TZOFFSETTO:-0400
TZNAME:EDT
DTSTART:20240310T070000
END:DAYLIGHT
BEGIN:STANDARD
TZOFFSETFROM:-0400
TZOFFSETTO:-0500
TZNAME:EST
DTSTART:20241103T060000
END:STANDARD
BEGIN:DAYLIGHT
TZOFFSETFROM:-0500
TZOFFSETTO:-0400
TZNAME:EDT
DTSTART:20250309T070000
END:DAYLIGHT
BEGIN:STANDARD
TZOFFSETFROM:-0400
TZOFFSETTO:-0500
TZNAME:EST
DTSTART:20251102T060000
END:STANDARD
END:VTIMEZONE
BEGIN:VEVENT
DTSTART;TZID=America/New_York:20240502T120000
DTEND;TZID=America/New_York:20240502T140000
DTSTAMP:20260425T040252
CREATED:20240417T081224Z
LAST-MODIFIED:20240417T081345Z
UID:2844-1714651200-1714658400@socialpracticecuny.org
SUMMARY:Gardening Angel: opening and walkthrough
DESCRIPTION:“Gardening Angel” is a site-specific sculpture designed for installation in Jackie Robinson Park\, representing growth and community prosperity. Standing approximately 58” tall\, it features a black with iridescent bronze glaze ceramic figure\, emphasizing positive change. Crafted with paper clay and stoneware\, supported by a concealed metal armature\, the sculpture depicts a life-sized figure with a waist-high opening serving as a vessel. The nuanced multi-toned bronze glazing process symbolizes resilience and growth\, while vibrant blue hydrangeas planted around the sculpture represent gratitude for a flourishing community. To engage visitors\, activities such as balloon flower performances will extend the sculpture’s message of growth\, prosperity\, and unity. \nOn May 2nd\, the official walkthrough will start at noon in Morningside Park with artist Coby Kennedy and Deputy Borough President Keisha Sutton-James. \nSPCUNY Artist: V (vera) Tineo\, 2023–24 Student Fellow \nWith support from: Harlem Sculpture Gardens\, Savona Bailey-McClain (Executive Director & Chief Curator) West Harlem Art Fund\, Queens College Ceramic Department\, NY Artist Equity Association and AHL Foundation
URL:https://socialpracticecuny.org/event/gardening-angel-opening-and-walkthrough/
LOCATION:Morningside Park\, Morningside Dr.\, New York\, NY\, 10026\, United States
CATEGORIES:In-Person
ATTACH;FMTTYPE=image/jpeg:https://socialpracticecuny.org/wp-content/uploads/2024/04/Gardening-Angel-e1713341509497.jpeg
END:VEVENT
END:VCALENDAR