BEGIN:VCALENDAR
VERSION:2.0
PRODID:-//Social Practice CUNY - ECPv6.15.20//NONSGML v1.0//EN
CALSCALE:GREGORIAN
METHOD:PUBLISH
X-ORIGINAL-URL:https://socialpracticecuny.org
X-WR-CALDESC:Events for Social Practice CUNY
REFRESH-INTERVAL;VALUE=DURATION:PT1H
X-Robots-Tag:noindex
X-PUBLISHED-TTL:PT1H
BEGIN:VTIMEZONE
TZID:UTC
BEGIN:STANDARD
TZOFFSETFROM:+0000
TZOFFSETTO:+0000
TZNAME:UTC
DTSTART:20250101T000000
END:STANDARD
END:VTIMEZONE
BEGIN:VEVENT
DTSTART;VALUE=DATE:20260327
DTEND;VALUE=DATE:20260328
DTSTAMP:20260423T144858
CREATED:20260309T084454Z
LAST-MODIFIED:20260312T085435Z
UID:5858-1774569600-1774655999@socialpracticecuny.org
SUMMARY:Open Call! Southeast Queens Film Festival
DESCRIPTION:Submit to the OPEN CALL for a juried film selection that’s part of the inaugural edition of the Southeast Queens Film Festival (April 15-17)\, an event that the York College CUNY Art History Program is running in Jamaica\, Queens as part of the Social Practice CUNY (SPCUNY) initiative Jamaica Forum for Public Art Otherwise! \nThe EXTENDED submission deadline for videos and films is fast approaching: March 27. \nInterested in the full three-day festival schedule? Check it out and RSVP here:\n\n\nWant to submit to the Open Call? Fill out the form here:\n\nWe’re excited to see what you submit! Remember – This juried selection is inclusive! \nThe open call for juried selection is coordinated by the community organization Southeast Queens Center for History and Culture (SQCHC) which welcomes submissions of moving image works of any length and format (note: analog formats would have to be submitted as digital files). \nSQCHC wants to see anything and everything that you can conceive\, from TikTok videos to short films\, from curated home video selections to a funny night out with your friends captured on your phone! Anything and everything! \nSQCHC just asks that all applicants and/or their films have a connection to Southeast Queens. They hope to show as many submissions as possible. Selected submissions will be shown in the main Lecture Hall at York College CUNY in Jamaica\, Queens on April 15. \nDon’t hesitate to contact ebovino@york.cuny.edu\, if you have any questions! \nACCESSIBILITY \nContact ebovino@york.cuny.edu with any accessibility needs so that the film festival can make your open call submission experience as comfortable as possible.
URL:https://socialpracticecuny.org/event/open-call-southeast-queens-film-festival/
LOCATION:York College CUNY\, 94-20 Guy R. Brewer Blvd.\, Jamaica\, NY\, United States
CATEGORIES:In-Person
ATTACH;FMTTYPE=image/png:https://socialpracticecuny.org/wp-content/uploads/2026/03/SEQFF-plasma_OpenCall-Emily-Verla-Bovino.png
END:VEVENT
END:VCALENDAR