BEGIN:VCALENDAR
VERSION:2.0
PRODID:-//Social Practice CUNY - ECPv6.15.20//NONSGML v1.0//EN
CALSCALE:GREGORIAN
METHOD:PUBLISH
X-WR-CALNAME:Social Practice CUNY
X-ORIGINAL-URL:https://socialpracticecuny.org
X-WR-CALDESC:Events for Social Practice CUNY
REFRESH-INTERVAL;VALUE=DURATION:PT1H
X-Robots-Tag:noindex
X-PUBLISHED-TTL:PT1H
BEGIN:VTIMEZONE
TZID:America/New_York
BEGIN:DAYLIGHT
TZOFFSETFROM:-0500
TZOFFSETTO:-0400
TZNAME:EDT
DTSTART:20240310T070000
END:DAYLIGHT
BEGIN:STANDARD
TZOFFSETFROM:-0400
TZOFFSETTO:-0500
TZNAME:EST
DTSTART:20241103T060000
END:STANDARD
BEGIN:DAYLIGHT
TZOFFSETFROM:-0500
TZOFFSETTO:-0400
TZNAME:EDT
DTSTART:20250309T070000
END:DAYLIGHT
BEGIN:STANDARD
TZOFFSETFROM:-0400
TZOFFSETTO:-0500
TZNAME:EST
DTSTART:20251102T060000
END:STANDARD
BEGIN:DAYLIGHT
TZOFFSETFROM:-0500
TZOFFSETTO:-0400
TZNAME:EDT
DTSTART:20260308T070000
END:DAYLIGHT
BEGIN:STANDARD
TZOFFSETFROM:-0400
TZOFFSETTO:-0500
TZNAME:EST
DTSTART:20261101T060000
END:STANDARD
END:VTIMEZONE
BEGIN:VEVENT
DTSTART;TZID=America/New_York:20250917T170000
DTEND;TZID=America/New_York:20250917T200000
DTSTAMP:20260423T235155
CREATED:20250905T061744Z
LAST-MODIFIED:20250905T061744Z
UID:5650-1758128400-1758139200@socialpracticecuny.org
SUMMARY:Part of the Practice Season Two Launch Party
DESCRIPTION:
URL:https://docs.google.com/forms/d/e/1FAIpQLSdJj5vHABphYSmTGljcyDtlxPbaUMJQADXeB1phbK8BEaz1pA/viewform#new_tab
LOCATION:Francis Kite Club\, 40 Loisaida Ave\, New York\, NY\, 10009\, United States
CATEGORIES:In-Person
ATTACH;FMTTYPE=image/png:https://socialpracticecuny.org/wp-content/uploads/2025/09/Podcast-Season-2-Launch-e1757053027713.png
ORGANIZER;CN="Social Practice CUNY":MAILTO:spcuny@gmail.com
END:VEVENT
BEGIN:VEVENT
DTSTART;TZID=America/New_York:20250918T170000
DTEND;TZID=America/New_York:20250918T203000
DTSTAMP:20260423T235155
CREATED:20250818T175109Z
LAST-MODIFIED:20250822T125253Z
UID:5622-1758214800-1758227400@socialpracticecuny.org
SUMMARY:Sounding Data Justice with Eastern Queens Alliance\, Inc.
DESCRIPTION:Responses needed (at this link) by Friday\, August 29\, 2025 11:59pm. \nThis is a special invitation for the Social Practice CUNY (SPCUNY) network! \nYour attendance is requested at two sound installations organized as part of the Jamaica Forum for Public Art Otherwise\, a 2025-2026 SPCUNY project at York College in Jamaica\, Queens. \nBoth events share work from Sounding Data Justice\, a collaborative project with Eastern Queens Alliance\, Inc. funded by a 2024-2025 American Council for Learned Societies Digital Justice Seed Grant. This experimental project works with data on air quality and aircraft noise collected by EQA to advocate for a sustainable Southeast Queens! \nTo assist with scheduling the sound installations—the first on September 18\, the second in October—please complete the form at this link. \nAll information is confidential and will only be used to send you friendly reminders. For questions\, please contact Emily Verla Bovino\, Assistant Professor\, CUNY York\, at ebovino@york.cuny.edu \n‘The Jamaica Forum for Public Art Otherwise’ is a Southeast Queens-based center for artistic research in public art at York College CUNY in Jamaica\, Queens. The SPCUNY fellowship supports its manifestation by conjoining initiatives with the Southeast Queens Artist Alliance\, Eastern Queens Alliance\, the Black American Heritage Foundation Music History Archive\, and Black Spectrum Theatre. The project serves these communities with events to engage them with each other\, thus enacting the center. \n\nAccessibility: York College is wheelchair accessible. Contact ebovino@york.cuny.edu with accessibility requirements for the King Manor Museum in October.
URL:https://socialpracticecuny.org/event/sounding-data-justice/
LOCATION:York College CUNY (3H Atrium & 2D01)\, 94-20 Guy R. Brewer Blvd.\, Jamaica\, NY\, 11451\, United States
CATEGORIES:In-Person
ATTACH;FMTTYPE=image/jpeg:https://socialpracticecuny.org/wp-content/uploads/2025/08/JFPAO_Sept18_Flyer_Email-Emily-Verla-Bovino-1.jpg
END:VEVENT
END:VCALENDAR