BEGIN:VCALENDAR
VERSION:2.0
PRODID:-//Social Practice CUNY - ECPv6.15.20//NONSGML v1.0//EN
CALSCALE:GREGORIAN
METHOD:PUBLISH
X-WR-CALNAME:Social Practice CUNY
X-ORIGINAL-URL:https://socialpracticecuny.org
X-WR-CALDESC:Events for Social Practice CUNY
REFRESH-INTERVAL;VALUE=DURATION:PT1H
X-Robots-Tag:noindex
X-PUBLISHED-TTL:PT1H
BEGIN:VTIMEZONE
TZID:America/New_York
BEGIN:DAYLIGHT
TZOFFSETFROM:-0500
TZOFFSETTO:-0400
TZNAME:EDT
DTSTART:20240310T070000
END:DAYLIGHT
BEGIN:STANDARD
TZOFFSETFROM:-0400
TZOFFSETTO:-0500
TZNAME:EST
DTSTART:20241103T060000
END:STANDARD
BEGIN:DAYLIGHT
TZOFFSETFROM:-0500
TZOFFSETTO:-0400
TZNAME:EDT
DTSTART:20250309T070000
END:DAYLIGHT
BEGIN:STANDARD
TZOFFSETFROM:-0400
TZOFFSETTO:-0500
TZNAME:EST
DTSTART:20251102T060000
END:STANDARD
BEGIN:DAYLIGHT
TZOFFSETFROM:-0500
TZOFFSETTO:-0400
TZNAME:EDT
DTSTART:20260308T070000
END:DAYLIGHT
BEGIN:STANDARD
TZOFFSETFROM:-0400
TZOFFSETTO:-0500
TZNAME:EST
DTSTART:20261101T060000
END:STANDARD
END:VTIMEZONE
BEGIN:VTIMEZONE
TZID:UTC
BEGIN:STANDARD
TZOFFSETFROM:+0000
TZOFFSETTO:+0000
TZNAME:UTC
DTSTART:20240101T000000
END:STANDARD
END:VTIMEZONE
BEGIN:VEVENT
DTSTART;TZID=America/New_York:20250731T190000
DTEND;TZID=America/New_York:20250731T210000
DTSTAMP:20260424T012412
CREATED:20250507T162155Z
LAST-MODIFIED:20250507T165445Z
UID:4899-1753988400-1753995600@socialpracticecuny.org
SUMMARY:Elevating Black Queer Ancestors: Embodying Black Queer Pasts\, Envisioning Black Queer Futures
DESCRIPTION:Elevating Black Queer Ancestors: Embodying Black Queer Pasts\, Envisioning Black Queer Futures is a workshop series that explores the role of embodied experience in recovering\, interpreting\, and reimagining the uses of Black queer histories. Hosted monthly at Lefferts House—a site marked by legacies of enslavement and the erasure of Black historical presences—the series examines how material culture and spatial narratives shape our understanding of the past. Participants will engage critically and creatively with historic spaces and objects to explore embodied strategies for disrupting dominant historical narratives and reclaiming marginalized stories. \nSessions will take place from 7PM-9PM at 452 Flatbush Ave in Prospect Park\, Brooklyn on the following dates: \nMay 29\, 2025\nJune 26\, 2025\nJuly 31\, 2025 \nTo RSVP\, please send an email to riah.kinsey@gmail.com expressing your interest.
URL:https://socialpracticecuny.org/event/elevating-black-queer-ancestors-embodying-black-queer-pasts-envisioning-black-queer-futures-2-2/
LOCATION:Lefferts Historic House\, 452 Flatbush Ave.\, Brooklyn\, NY\, United States
CATEGORIES:In-Person,Reclaiming Lyceums,Virtual
ATTACH;FMTTYPE=image/jpeg:https://socialpracticecuny.org/wp-content/uploads/2025/05/IMG_9298-Riah-Kinsey.jpg
END:VEVENT
BEGIN:VEVENT
DTSTART;TZID=America/New_York:20250801T190000
DTEND;TZID=America/New_York:20250801T210000
DTSTAMP:20260424T012412
CREATED:20241008T125622Z
LAST-MODIFIED:20241008T125622Z
UID:4129-1754074800-1754082000@socialpracticecuny.org
SUMMARY:What Else? A Comedy Show about the Solidarity Economy
DESCRIPTION:
URL:https://www.eventcreate.com/e/whatelse#new_tab
LOCATION:Maker’s Ensemble\, 13 Grattan St. #408\, Brooklyn\, NY\, 11206\, United States
CATEGORIES:In-Person
ATTACH;FMTTYPE=image/png:https://socialpracticecuny.org/wp-content/uploads/2024/10/1-Kendall-Allison.png
END:VEVENT
BEGIN:VEVENT
DTSTART;TZID=America/New_York:20250803T110000
DTEND;TZID=America/New_York:20250803T130000
DTSTAMP:20260424T012412
CREATED:20250725T073746Z
LAST-MODIFIED:20250725T073746Z
UID:5504-1754218800-1754226000@socialpracticecuny.org
SUMMARY:Banned Books Brunch with The UltraViolet Archive
DESCRIPTION:
URL:https://www.eventbrite.com/e/banned-books-brunch-with-the-ultraviolet-archive-tickets-1515954543849#new_tab
LOCATION:Clemente Soto Velez Cultural & Educational Center\, 107 Suffolk Street\, New York\, NY\, 10002\, United States
CATEGORIES:In-Person
ATTACH;FMTTYPE=image/jpeg:https://socialpracticecuny.org/wp-content/uploads/2025/07/FREEMAN_CHRISTINA_UltraViolet_Detail_01.jpg
END:VEVENT
BEGIN:VEVENT
DTSTART;TZID=America/New_York:20250823T150000
DTEND;TZID=America/New_York:20250823T170000
DTSTAMP:20260424T012412
CREATED:20250811T062710Z
LAST-MODIFIED:20250811T062710Z
UID:5569-1755961200-1755968400@socialpracticecuny.org
SUMMARY:The Relationship Assessment Test
DESCRIPTION:
URL:https://www.eventbrite.com/e/the-relationship-assessment-test-2025-edition-tickets-1563621777829#new_tab
LOCATION:City Reliquary\, 370 Metropolitan Avenue\, Brooklyn\, NY\, 11211\, United States
CATEGORIES:In-Person
ATTACH;FMTTYPE=image/png:https://socialpracticecuny.org/wp-content/uploads/2025/08/RAT.png
END:VEVENT
BEGIN:VEVENT
DTSTART;TZID=America/New_York:20250824T140000
DTEND;TZID=America/New_York:20250824T160000
DTSTAMP:20260424T012412
CREATED:20250811T062913Z
LAST-MODIFIED:20250811T062913Z
UID:5575-1756044000-1756051200@socialpracticecuny.org
SUMMARY:The Relationship Assessment Test
DESCRIPTION:
URL:https://www.eventbrite.com/e/the-relationship-assessment-test-2025-edition-tickets-1563621777829#new_tab
LOCATION:City Reliquary\, 370 Metropolitan Avenue\, Brooklyn\, NY\, 11211\, United States
CATEGORIES:In-Person
ATTACH;FMTTYPE=image/png:https://socialpracticecuny.org/wp-content/uploads/2025/08/RAT.png
END:VEVENT
BEGIN:VEVENT
DTSTART;VALUE=DATE:20250829
DTEND;VALUE=DATE:20250830
DTSTAMP:20260424T012412
CREATED:20250816T105534Z
LAST-MODIFIED:20250822T125206Z
UID:5609-1756425600-1756511999@socialpracticecuny.org
SUMMARY:RSVP DEADLINE for September & October: Sounding Data Justice with Eastern Queens Alliance\, Inc.
DESCRIPTION:Responses needed (at this link) by Friday\, August 29\, 2025 11:59pm. \nThis is a special invitation for the Social Practice CUNY (SPCUNY) network! \nYour attendance is requested at two sound installations organized as part of the Jamaica Forum for Public Art Otherwise\, a 2025-2026 SPCUNY project at York College in Jamaica\, Queens. \nBoth events share work from Sounding Data Justice\, a collaborative project with Eastern Queens Alliance\, Inc. funded by a 2024-2025 American Council for Learned Societies Digital Justice Seed Grant. This experimental project works with data on air quality and aircraft noise collected by EQA to advocate for a sustainable Southeast Queens! \nTo assist with scheduling the sound installations—the first on September 18\, the second in October—please complete the form at this link. \nAll information is confidential and will only be used to send you friendly reminders. For questions\, please contact Emily Verla Bovino\, Assistant Professor\, CUNY York\, at ebovino@york.cuny.edu \n‘The Jamaica Forum for Public Art Otherwise’ is a Southeast Queens-based center for artistic research in public art at York College CUNY in Jamaica\, Queens. The SPCUNY fellowship supports its manifestation by conjoining initiatives with the Southeast Queens Artist Alliance\, Eastern Queens Alliance\, the Black American Heritage Foundation Music History Archive\, and Black Spectrum Theatre. The project serves these communities with events to engage them with each other\, thus enacting the center. \n\nAccessibility: York College is wheelchair accessible. Contact ebovino@york.cuny.edu with accessibility requirements for the King Manor Museum in October.
URL:https://socialpracticecuny.org/event/rsvp-date-for-september-october-sounding-data-justice-with-eastern-queens-alliance-inc/
LOCATION:York College CUNY (3H Atrium & 2D01)\, 94-20 Guy R. Brewer Blvd.\, Jamaica\, NY\, 11451\, United States
CATEGORIES:In-Person
ATTACH;FMTTYPE=image/jpeg:https://socialpracticecuny.org/wp-content/uploads/2025/08/JFPAO_Sept18_Flyer_Email-Emily-Verla-Bovino-1.jpg
END:VEVENT
END:VCALENDAR