BEGIN:VCALENDAR
VERSION:2.0
PRODID:-//Social Practice CUNY - ECPv6.15.20//NONSGML v1.0//EN
CALSCALE:GREGORIAN
METHOD:PUBLISH
X-WR-CALNAME:Social Practice CUNY
X-ORIGINAL-URL:https://socialpracticecuny.org
X-WR-CALDESC:Events for Social Practice CUNY
REFRESH-INTERVAL;VALUE=DURATION:PT1H
X-Robots-Tag:noindex
X-PUBLISHED-TTL:PT1H
BEGIN:VTIMEZONE
TZID:America/New_York
BEGIN:DAYLIGHT
TZOFFSETFROM:-0500
TZOFFSETTO:-0400
TZNAME:EDT
DTSTART:20240310T070000
END:DAYLIGHT
BEGIN:STANDARD
TZOFFSETFROM:-0400
TZOFFSETTO:-0500
TZNAME:EST
DTSTART:20241103T060000
END:STANDARD
BEGIN:DAYLIGHT
TZOFFSETFROM:-0500
TZOFFSETTO:-0400
TZNAME:EDT
DTSTART:20250309T070000
END:DAYLIGHT
BEGIN:STANDARD
TZOFFSETFROM:-0400
TZOFFSETTO:-0500
TZNAME:EST
DTSTART:20251102T060000
END:STANDARD
BEGIN:DAYLIGHT
TZOFFSETFROM:-0500
TZOFFSETTO:-0400
TZNAME:EDT
DTSTART:20260308T070000
END:DAYLIGHT
BEGIN:STANDARD
TZOFFSETFROM:-0400
TZOFFSETTO:-0500
TZNAME:EST
DTSTART:20261101T060000
END:STANDARD
END:VTIMEZONE
BEGIN:VTIMEZONE
TZID:UTC
BEGIN:STANDARD
TZOFFSETFROM:+0000
TZOFFSETTO:+0000
TZNAME:UTC
DTSTART:20240101T000000
END:STANDARD
END:VTIMEZONE
BEGIN:VEVENT
DTSTART;TZID=America/New_York:20250228T190000
DTEND;TZID=America/New_York:20250228T210000
DTSTAMP:20260424T080320
CREATED:20241008T125448Z
LAST-MODIFIED:20250129T093015Z
UID:4123-1740769200-1740776400@socialpracticecuny.org
SUMMARY:What Else? A Comedy Show about the Solidarity Economy (new date!)
DESCRIPTION:
URL:https://www.eventcreate.com/e/whatelse#new_tab
LOCATION:Maker’s Ensemble\, 13 Grattan St. #408\, Brooklyn\, NY\, 11206\, United States
CATEGORIES:In-Person
ATTACH;FMTTYPE=image/png:https://socialpracticecuny.org/wp-content/uploads/2024/10/1-Kendall-Allison.png
END:VEVENT
BEGIN:VEVENT
DTSTART;TZID=America/New_York:20250302T150000
DTEND;TZID=America/New_York:20250302T190000
DTSTAMP:20260424T080320
CREATED:20250212T134914Z
LAST-MODIFIED:20250212T135025Z
UID:4496-1740927600-1740942000@socialpracticecuny.org
SUMMARY:Film Premiere of Please Hold at The Parkside Lounge
DESCRIPTION:March 2\, 2025 \nDoors at 3pm / Screening 5-7pm \nTickets are pay-what-you-can: all funds will be split between MIX and helping the film travel for future installations \nActivist mediamaker\, scholar\, writer\, and Distinguished Professor of Film\, CUNY\, Alexandra Juhasz\, announces the premiere of her latest experimental documentary\, Please Hold (70 mins\, 2024). As part of a dynamic\, multisensory\, community-based experience\, before the screening (3–5 PM) attendees are invited to come early\, so as to bring and share among queer community objects that hold memories of HIV/AIDS\, the Lower East Side\, or the Parkside Lounge. Co-sponsored by the MIX Experimental Film Festival and Visual AIDS\, the event\, emceed by “High-Profile NYC Drag Queen!” Linda Simpson\, will conclude with a live performance by CHRISTEENE\, whose music is featured in the video. \n21+ \n  \n\n  \nAccessibility Information:\nThe bar is on the ground floor. The performance venue and accessible bathrooms are accessed via a portable ramp (1.5 steps). All tickets are general admission first come first serve\, but if you have accessibility needs and need a seat\, need to be close to the stage\, or will be coming in a wheelchair\, please let us know at checkout and we will have a spot reserved for you.  Strobe lighting and fog may be used in this performance.
URL:https://socialpracticecuny.org/event/film-premiere-of-please-hold-at-the-parkside-lounge/
LOCATION:Parkside Lounge\, 317 E Houston St.\, New York\, NY\, 10002\, United States
CATEGORIES:In-Person
ATTACH;FMTTYPE=image/jpeg:https://socialpracticecuny.org/wp-content/uploads/2025/02/please-hold-premiere.jpg
END:VEVENT
BEGIN:VEVENT
DTSTART;TZID=UTC:20250306T170000
DTEND;TZID=UTC:20250306T210000
DTSTAMP:20260424T080320
CREATED:20250225T073508Z
LAST-MODIFIED:20250225T073657Z
UID:4520-1741280400-1741294800@socialpracticecuny.org
SUMMARY:Look Both Ways
DESCRIPTION:SPCUNY fellow Ali Motamedi is an Iranian-born artist and author whose work explores the intersections of language\, immigration\, and identity through text-based art\, photography\, and interdisciplinary storytelling. His practice challenges dominant narratives and engages with collective memory\, recontextualizing imagery to examine displacement\, belonging\, and cultural perception. \nJoin us for his Hunter MFA thesis show of 2025\, Look Both Ways. The work exhibited will feature artists Meredith Bakke\, Nava Derakshani\, Max Eisenberg\, Magdalen Pickering\, Rosalie Smith\, and Emily Wichtrich and ranges from sculptural installation to VR\, Photo\, and Painting. \n \nOpen March 6th through March 16th at 205 Hudson St \nOpening reception\nMarch 6th\n5pm -9pm \nDirections\nThe gallery entrance is located on the south side of Canal Street between Hudson Street and Greenwich Street. Closest subways are the 1 train at Canal Street or the A\, C\, E trains at Canal Street. \nAccessibility\nThe 205 Hudson Gallery is an accessible ground floor space. The mezzanine level of the gallery is accessible via a wheelchair lift and a wheelchair accessible restroom is located on the ground floor of the gallery. Closest accessible subway stations are Canal Street 6 train only and Chambers Street 1\, 2\, 3 trains.
URL:https://socialpracticecuny.org/event/look-both-ways/
LOCATION:205 Hudson Gallery\, 205 Hudson St\, New York\, NY\, 11367\, United States
CATEGORIES:In-Person
ATTACH;FMTTYPE=image/jpeg:https://socialpracticecuny.org/wp-content/uploads/2025/02/1-Ali-Motamedi.jpg
END:VEVENT
BEGIN:VEVENT
DTSTART;TZID=America/New_York:20250308T150000
DTEND;TZID=America/New_York:20250308T170000
DTSTAMP:20260424T080320
CREATED:20250212T135814Z
LAST-MODIFIED:20250212T135814Z
UID:4504-1741446000-1741453200@socialpracticecuny.org
SUMMARY:Online Premier: Please Hold
DESCRIPTION:How do neighborhoods\, sweaters and scarves\, videotapes and queer bars hold ghosts? How do we let them go? \n\n\n\n\n\n\n\n\n\nIn this 2-hour webinar\, we will introduce the panel and the video\, screen it together (70 mins)\, and then the panel of “AIDS workers” who are authors or editors from the collection “AIDS and the Distribution of Crises” (Duke University Press\, 2020) will discuss their reaction\, feelings and questions. \n\n\n\n\n\n  \n\n\n\n\nFeaturing: Cecilia Aldarondo\, Pablo Alvarez\, Jih-Fei Cheng\, Pato Hebert\, Alexandra Juhasz\, Cait McKinney\, Nishant Shahani\, Quito Ziegler
URL:https://socialpracticecuny.org/event/online-premier-please-hold/
LOCATION:Virtual\, See event for details
CATEGORIES:Virtual
ATTACH;FMTTYPE=image/jpeg:https://socialpracticecuny.org/wp-content/uploads/2025/02/Still-from-Please-Hold.jpg
END:VEVENT
BEGIN:VEVENT
DTSTART;TZID=UTC:20250309T140000
DTEND;TZID=UTC:20250309T170000
DTSTAMP:20260424T080320
CREATED:20250304T184014Z
LAST-MODIFIED:20250305T234011Z
UID:4591-1741528800-1741539600@socialpracticecuny.org
SUMMARY:OUR STUDIES SHOW Session 7
DESCRIPTION:FREE/NON-MONETARY \n\nLead by SPCUNY alumni Esther Neff of PPL\, OUR STUDIES SHOW stages collective philosophy as a form of theatre. It is a play about/of/at thinking. Considering our inhabitation of our own body-minds as legitimate empirical study (e.g. “instances of human being/thinking”) and our intuitions\, experiences\, and ideas as important philosophical contributions\, we practice complex thought together through a series of in-person gatherings. We (those assembled) dig deeply into metaphysical and conceptual problems. Everyone is welcome. No assumed “knowledge\,” or intellectual “background” needed. The primary task here is simply to compose and perform complex inquiries together. This is not a reading group\, it is (a) “play.” \n\n\nThrough the first three sessions in Fall of 2024\, collective bodies composed the form of an inquiry: \n1) how are “human beings” related to “nature”?\n2) how does what actual embodied persons believe about this question “matter”?\n\n3) How shall we evaluate “beliefs” on grounds other than whether or not they are “true” or “scientific”? \nSpring 2025 sessions will involve “theoretical dramaturgies” (scores for thinking and theorizing together) which re-phrase\, re-frame\, and re-iterate such inquiries\, particularly in relation to “biological” vs. “cultural”  senses of sex and gender\, de-alienation and “settler surrender\,” and the role of doxastic logics (belief systems) in collective self-recognition. \nMasks are required for the in-person session. The space and bathroom are accessible to those using wheelchairs or other mobility aids. ASL interpretation available on request. Please e-mail eneff@gradcenter.cuny.edu with any questions.
URL:https://socialpracticecuny.org/event/our-studies-show-session-7/
LOCATION:(Brooklyn NY\, register for address\, max 15 participants)
CATEGORIES:In-Person
ATTACH;FMTTYPE=image/jpeg:https://socialpracticecuny.org/wp-content/uploads/2024/11/SPRING-2025_108010180.jpg
ORGANIZER;CN="Esther Neff":MAILTO:eneff@gradcenter.cuny.edu
END:VEVENT
BEGIN:VEVENT
DTSTART;TZID=UTC:20250314T101500
DTEND;TZID=UTC:20250314T120000
DTSTAMP:20260424T080320
CREATED:20250305T232443Z
LAST-MODIFIED:20250305T234234Z
UID:4616-1741947300-1741953600@socialpracticecuny.org
SUMMARY:A Fake News Poetry Reading to Mark the 2nd 100 Days
DESCRIPTION:In 2016-17\, SPCUNY alumni Alexandra Juhasz engaged in a daily practice for the first 100 days of a presidency\, blogging about fake news and matters of civic decency\, and as often as not sharing the page with friends and colleagues. That became a website with 100 Hard Truths about Fake News:  For many years after\, Alex ran workshops with poets around the world together thinking about those hard truths and the words of other participants: fakenews-poetry.org. Those poems became a book\, My Phone Lies to Me\, published by @punctum_books (available to download for free). \n15-20 participants in that project (writers\, poets\, teachers\, friends)\, will read old poems from that book. You are invited to come hear poems and there will be time for discussion or the reading of more poems after the one-hour reading. \nIt is good to be together with poetry at this time. The reading will also be recorded as part of punctum’s\, Encounters at the End of the Book series.
URL:https://socialpracticecuny.org/event/a-fake-news-poetry-reading-to-mark-the-2nd-100-days/
LOCATION:zoom
CATEGORIES:Virtual
ATTACH;FMTTYPE=image/jpeg:https://socialpracticecuny.org/wp-content/uploads/2025/03/screen-shot-2025-03-04-at-11.34.56-am.jpg
END:VEVENT
BEGIN:VEVENT
DTSTART;TZID=UTC:20250316T163000
DTEND;TZID=UTC:20250316T180000
DTSTAMP:20260424T080320
CREATED:20250303T204906Z
LAST-MODIFIED:20250304T174400Z
UID:4575-1742142600-1742148000@socialpracticecuny.org
SUMMARY:Peaker film screening at Woodbine
DESCRIPTION:Public Power Observatory \nFilm screening and panel discussion of “Peaker” and “Who Pays for Power?” at Woodbine social center. SPCUNY Fellow Ashley Dawson will screen and discuss two films relating to NYC’s toxic energy infrastructure at Woodbine Social Center on Sunday\, March 16th at 4:30pm. Dawson will be joined for a discussion by the architect Andrea Johnson and sociologist Ankit Bhardwaj.
URL:https://socialpracticecuny.org/event/peaker-film-screening-at-woodbine/
LOCATION:Woodbine Social Center\, 585 Woodward Ave Ridgewood\,\, New York\, NY\, 11385\, United States
ATTACH;FMTTYPE=image/jpeg:https://socialpracticecuny.org/wp-content/uploads/2025/03/Ravenswood-Ashley-Dawson-1-scaled.jpg
ORGANIZER;CN="Jason Prechtel":MAILTO:hi@jasonprechtel.com
END:VEVENT
BEGIN:VEVENT
DTSTART;TZID=UTC:20250319T180000
DTEND;TZID=UTC:20250319T200000
DTSTAMP:20260424T080320
CREATED:20250306T002254Z
LAST-MODIFIED:20250306T002524Z
UID:4647-1742407200-1742414400@socialpracticecuny.org
SUMMARY:Choreographies of Survival: A Black Feminist Climate Conversation with Tao Leigh Goffe and Emily Raboteau
DESCRIPTION:Please join us for “Choreographies of Survival” a Black feminist climate conversation between two SPCUNY alumni and authors Tao Leigh Goffe and Emily Raboteau who\, although starting from different frameworks\, both shine a light on the intersections of race and the ever-changing contours of climate risk in their new books. Whether it is through countermapping history or narrating the lived experience of Black parenting in an age of racialized pollution and policing\, these books bring forward the myriad ways humans and humanity are rearticulating their relationship to a sociopolitical and environmental climate in perpetual crisis. The conversation will be moderated by Kendra Sullivan (Director of the Center for the Humanities). \nThe event will be followed by a book signing with the authors. Registration required.
URL:https://socialpracticecuny.org/event/choreographies-of-survival-a-black-feminist-climate-conversation-with-tao-leigh-goffe-and-emily-raboteau/
LOCATION:The Skylight Room (9100)\, CUNY Graduate Center\, 365 5th Ave\, NYC\, NY\, United States
CATEGORIES:In-Person
ATTACH;FMTTYPE=image/jpeg:https://socialpracticecuny.org/wp-content/uploads/2025/03/A-Black-Feminist-Climate-Conversation-With-Tao-Leigh-Goffe-and-Emily-Raboteau-8.jpg
END:VEVENT
BEGIN:VEVENT
DTSTART;TZID=America/New_York:20250321T120000
DTEND;TZID=America/New_York:20250321T150000
DTSTAMP:20260424T080320
CREATED:20250217T161634Z
LAST-MODIFIED:20250307T114611Z
UID:4511-1742558400-1742569200@socialpracticecuny.org
SUMMARY:Freedom Zines
DESCRIPTION:This zine-making workshop introduces participants to the pedagogical and political legacies of freedom schools in the Sea Islands and in rural Mississippi in the mid-20th century and asks them to craft writing that speaks to that legacy. These writings will be collected in a zine which will be printed and displayed at a later date. Please register for the workshop here:
URL:https://socialpracticecuny.org/event/freedom-zines/
LOCATION:CTHQ\, 59 E 4th St\, Floor 7\, New York\, NY\, 10003\, United States
CATEGORIES:In-Person
ATTACH;FMTTYPE=image/jpeg:https://socialpracticecuny.org/wp-content/uploads/2025/01/Freedom-Zines-small-flyer-copy.1-Chy-Sprauve-e1741347935962.jpeg
END:VEVENT
BEGIN:VEVENT
DTSTART;TZID=UTC:20250327T161500
DTEND;TZID=UTC:20250327T181500
DTSTAMP:20260424T080320
CREATED:20250323T000306Z
LAST-MODIFIED:20250326T160028Z
UID:4688-1743092100-1743099300@socialpracticecuny.org
SUMMARY:Art as Social Action
DESCRIPTION:Join us for a discussion with SPCUNY Co-Directors Chloë Bass and Gregory Sholette about how to proceed with complex\, creative\, politically supportive projects both within and outside of the University during challenging and uncertain times. \nRefreshments to follow. \n  \n 
URL:https://socialpracticecuny.org/event/art-as-social-change-practice/
LOCATION:CUNY Graduate Center\, Room 4102\, 365 Fifth Avenue\, New York\, 10016\, United States
CATEGORIES:In-Person
ATTACH;FMTTYPE=image/jpeg:https://socialpracticecuny.org/wp-content/uploads/2025/03/Socialactionflyer-scaled-e1743004753632.jpg
END:VEVENT
END:VCALENDAR