BEGIN:VCALENDAR
VERSION:2.0
PRODID:-//Social Practice CUNY - ECPv6.15.20//NONSGML v1.0//EN
CALSCALE:GREGORIAN
METHOD:PUBLISH
X-WR-CALNAME:Social Practice CUNY
X-ORIGINAL-URL:https://socialpracticecuny.org
X-WR-CALDESC:Events for Social Practice CUNY
REFRESH-INTERVAL;VALUE=DURATION:PT1H
X-Robots-Tag:noindex
X-PUBLISHED-TTL:PT1H
BEGIN:VTIMEZONE
TZID:UTC
BEGIN:STANDARD
TZOFFSETFROM:+0000
TZOFFSETTO:+0000
TZNAME:UTC
DTSTART:20240101T000000
END:STANDARD
END:VTIMEZONE
BEGIN:VTIMEZONE
TZID:America/New_York
BEGIN:DAYLIGHT
TZOFFSETFROM:-0500
TZOFFSETTO:-0400
TZNAME:EDT
DTSTART:20240310T070000
END:DAYLIGHT
BEGIN:STANDARD
TZOFFSETFROM:-0400
TZOFFSETTO:-0500
TZNAME:EST
DTSTART:20241103T060000
END:STANDARD
BEGIN:DAYLIGHT
TZOFFSETFROM:-0500
TZOFFSETTO:-0400
TZNAME:EDT
DTSTART:20250309T070000
END:DAYLIGHT
BEGIN:STANDARD
TZOFFSETFROM:-0400
TZOFFSETTO:-0500
TZNAME:EST
DTSTART:20251102T060000
END:STANDARD
BEGIN:DAYLIGHT
TZOFFSETFROM:-0500
TZOFFSETTO:-0400
TZNAME:EDT
DTSTART:20260308T070000
END:DAYLIGHT
BEGIN:STANDARD
TZOFFSETFROM:-0400
TZOFFSETTO:-0500
TZNAME:EST
DTSTART:20261101T060000
END:STANDARD
END:VTIMEZONE
BEGIN:VEVENT
DTSTART;VALUE=DATE:20250201
DTEND;VALUE=DATE:20250301
DTSTAMP:20260424T092124
CREATED:20250122T094319Z
LAST-MODIFIED:20250122T094319Z
UID:4479-1738368000-1740787199@socialpracticecuny.org
SUMMARY:Farsi Flows
DESCRIPTION:The Farsi Flows proposes a new framework for an alphabet. This alphabet bridges history\, heritage\, and the infinite possibilities of the future in a simple\, comprehensible form. It is presented as (a grid of) thirty-two frames\, corresponding to the thirty-two letters of Farsi\, the artist’s cultural heritage. These frames incorporate images of ancient geoglyphs from diverse cultures alongside futuristic symbols of interstellar communication\, blending visual languages\, codes\, numbers\, and signs to transcend traditional linguistic boundaries.
URL:https://socialpracticecuny.org/event/farsi-flows/
LOCATION:Rye Free Reading Room\, 1061 Boston Post Rd.\, Rye\, NY\, 10580\, United States
CATEGORIES:In-Person
ATTACH;FMTTYPE=image/png:https://socialpracticecuny.org/wp-content/uploads/2025/01/2-Ali-Motamedi-e1737538894360.png
END:VEVENT
BEGIN:VEVENT
DTSTART;TZID=America/New_York:20250206T180000
DTEND;TZID=America/New_York:20250206T193000
DTSTAMP:20260424T092124
CREATED:20250123T164704Z
LAST-MODIFIED:20250123T164704Z
UID:4486-1738864800-1738870200@socialpracticecuny.org
SUMMARY:Museums without Walls: the MTA and the Met Intersect
DESCRIPTION:
URL:https://socialpracticecuny.org/event/museums-without-walls-the-mta-and-the-met-intersect/
LOCATION:New York Transit Museum\, 99 Schermerhorn St\, Brooklyn\, NY\, United States
CATEGORIES:In-Person
ATTACH;FMTTYPE=image/png:https://socialpracticecuny.org/wp-content/uploads/2025/01/Screen-Shot-2025-01-23-at-5.41.01-PM.png
END:VEVENT
BEGIN:VEVENT
DTSTART;TZID=America/New_York:20250207T170000
DTEND;TZID=America/New_York:20250207T190000
DTSTAMP:20260424T092124
CREATED:20250107T124430Z
LAST-MODIFIED:20250121T175827Z
UID:4451-1738947600-1738954800@socialpracticecuny.org
SUMMARY:What the Pandemic taught us about Technologies\, and vice-versa: Viral Missives from Hong Kong and New Delhi
DESCRIPTION:Pandemics persist. They recede\, are managed\, resurface\, mutate\, and become endemic so that what was once seen as a threat becomes a part of our viral and microbial ecosystems. Biological pandemics are managed by technologies. Long after the effects of the pandemics recede\, the technologies used to manage them become a part of our social and political organization. \nOrganized by SPCUNY Alum Alexandra Juhasz and featuring Nishant Shah\, this talk draws from collaborative community workshops in Hong Kong and New Delhi to combine storytelling\, contextualization\, and re-mediation of the global experiences of the COVID19 pandemic. In the process it invites reflection on the changing nature of technologies\, how they were shaped in the localized management of the global pandemic\, and what this means for our present and future of coming and being together. \nMore details here.
URL:https://socialpracticecuny.org/event/what-the-pandemic-taught-us-about-technologies-and-vice-versa-viral-missives-from-hong-kong-and-new-delhi/
LOCATION:The Skylight Room\, Room 9100\, The Graduate Center\, CUNY\, 365 Fifth Ave\, New York\, NY\, 10016\, United States
ATTACH;FMTTYPE=image/png:https://socialpracticecuny.org/wp-content/uploads/2025/01/Screen-Shot-2025-01-21-at-6.57.52-PM.png
ORGANIZER;CN="Social Practice CUNY":MAILTO:spcuny@gmail.com
END:VEVENT
BEGIN:VEVENT
DTSTART;TZID=America/New_York:20250208T100000
DTEND;TZID=America/New_York:20250208T180000
DTSTAMP:20260424T092124
CREATED:20250109T143850Z
LAST-MODIFIED:20250123T130206Z
UID:4456-1739008800-1739037600@socialpracticecuny.org
SUMMARY:The Technological Pandemic: The Present and Future of Coming Together
DESCRIPTION:You are invited to attend a day-long workshop facilitated by Nishant Shah and SPCUNY Alum Alexandra Juhasz in partnership with the Digital Narratives Studio at the School of Journalism & Communication\, The Chinese University of Hong Kong. This workshop explores the technological shifts experienced during the management of the COVID19 pandemic\, profoundly altering how we come together as groups\, collectives\, communities\, and people. The workshop aims to unpack these shifts to understand how pandemic conditions persist long after the biological pandemic has been managed. \nThis reflective space will help us hold\, grieve\, map\, name\, and understand the changes we have collectively undergone and how they affect our practices of coming together. \nRegister HERE. Room information provided to registered participants.
URL:https://socialpracticecuny.org/event/the-technological-pandemic-the-present-and-future-of-coming-together/
LOCATION:CUNY Graduate Center\, 365 5th Ave\, New York\, NY\, 10016\, United States
CATEGORIES:In-Person
ATTACH;FMTTYPE=image/jpeg:https://socialpracticecuny.org/wp-content/uploads/2025/01/nishant-workshop.jpg
END:VEVENT
BEGIN:VEVENT
DTSTART;TZID=UTC:20250227T160000
DTEND;TZID=UTC:20250227T180000
DTSTAMP:20260424T092124
CREATED:20250226T151152Z
LAST-MODIFIED:20250226T234033Z
UID:4549-1740672000-1740679200@socialpracticecuny.org
SUMMARY:Climate Museum Pop-Up Exhibit
DESCRIPTION:A screening of “Peaker” film by SPCUNY Fellow Ashley Dawson. \nCasa de las Américas\, the Latinx academic and culture center at LaGuardia Community College/CUNY\, is collaborating with The Climate Museum to present a pop-up version of The End of Fossil Fuel\, exhibition featuring details on how climate change has impacted our world throughout the years. Ashley Dawson’s Film “Peaker” and photographs in Dawson’s Ravenswood series will be featured. The exhibition will be formally introduced with a program and reception\, from 4 to 6 p.m.\, February 27 in the M-Lobby\, where the exhibition is displayed. \n  \n \nHow to Get Here?\nThe College campus is located at 31-10 Thomson Avenue\, Long Island City\, NY 11101 on Thomson Avenue\, between Van Dam Street and Skillman Avenue. All visitors must enter through the E-Building Lobby (M-Building Lobby is for exiting only).
URL:https://socialpracticecuny.org/event/climate-museum-pop-up-exhibit/
LOCATION:LaGuardia Community College\, 31-10 Thomson Avenue\, Long Island City\, NY\, New York\, 11101\, United States
ATTACH;FMTTYPE=image/jpeg:https://socialpracticecuny.org/wp-content/uploads/2025/02/ravenswood-1-Ashley-Dawson-scaled.jpg
END:VEVENT
END:VCALENDAR