BEGIN:VCALENDAR
VERSION:2.0
PRODID:-//Social Practice CUNY - ECPv6.15.20//NONSGML v1.0//EN
CALSCALE:GREGORIAN
METHOD:PUBLISH
X-ORIGINAL-URL:https://socialpracticecuny.org
X-WR-CALDESC:Events for Social Practice CUNY
REFRESH-INTERVAL;VALUE=DURATION:PT1H
X-Robots-Tag:noindex
X-PUBLISHED-TTL:PT1H
BEGIN:VTIMEZONE
TZID:America/New_York
BEGIN:DAYLIGHT
TZOFFSETFROM:-0500
TZOFFSETTO:-0400
TZNAME:EDT
DTSTART:20230312T070000
END:DAYLIGHT
BEGIN:STANDARD
TZOFFSETFROM:-0400
TZOFFSETTO:-0500
TZNAME:EST
DTSTART:20231105T060000
END:STANDARD
BEGIN:DAYLIGHT
TZOFFSETFROM:-0500
TZOFFSETTO:-0400
TZNAME:EDT
DTSTART:20240310T070000
END:DAYLIGHT
BEGIN:STANDARD
TZOFFSETFROM:-0400
TZOFFSETTO:-0500
TZNAME:EST
DTSTART:20241103T060000
END:STANDARD
BEGIN:DAYLIGHT
TZOFFSETFROM:-0500
TZOFFSETTO:-0400
TZNAME:EDT
DTSTART:20250309T070000
END:DAYLIGHT
BEGIN:STANDARD
TZOFFSETFROM:-0400
TZOFFSETTO:-0500
TZNAME:EST
DTSTART:20251102T060000
END:STANDARD
END:VTIMEZONE
BEGIN:VEVENT
DTSTART;TZID=America/New_York:20241202T140000
DTEND;TZID=America/New_York:20241202T170000
DTSTAMP:20260424T121356
CREATED:20241101T165240Z
LAST-MODIFIED:20241101T165410Z
UID:4154-1733148000-1733158800@socialpracticecuny.org
SUMMARY:OUR STUDIES SHOW Session 2
DESCRIPTION:
URL:https://socialpracticecuny.org/portfolio-item/our-studies-show/
LOCATION:CUNY Graduate Center\, 365 5th Ave\, New York\, NY\, 10016\, United States
CATEGORIES:In-Person
ATTACH;FMTTYPE=image/jpeg:https://socialpracticecuny.org/wp-content/uploads/2024/11/IMG_20200923_184259030-Esther-Neff-scaled-e1731978402224.jpg
END:VEVENT
BEGIN:VEVENT
DTSTART;TZID=America/New_York:20241206T160000
DTEND;TZID=America/New_York:20241206T190000
DTSTAMP:20260424T121356
CREATED:20241111T091221Z
LAST-MODIFIED:20241111T091224Z
UID:4191-1733500800-1733511600@socialpracticecuny.org
SUMMARY:Screening: The Making of Corona Plaza\, Queens
DESCRIPTION:
URL:https://event.newschool.edu/themakingofcoronaplazaqueens#new_tab
LOCATION:The New School
CATEGORIES:In-Person
ATTACH;FMTTYPE=image/png:https://socialpracticecuny.org/wp-content/uploads/2024/11/Making-of-Corona_Dec-6-SPCUNY-Poster-e1731978736172.png
END:VEVENT
BEGIN:VEVENT
DTSTART;TZID=America/New_York:20241209T180000
DTEND;TZID=America/New_York:20241209T210000
DTSTAMP:20260424T121356
CREATED:20241101T165349Z
LAST-MODIFIED:20241101T165349Z
UID:4157-1733767200-1733778000@socialpracticecuny.org
SUMMARY:OUR STUDIES SHOW Session 3
DESCRIPTION:
URL:https://socialpracticecuny.org/portfolio-item/our-studies-show/
LOCATION:Center for Performance Research
CATEGORIES:In-Person
ATTACH;FMTTYPE=image/jpeg:https://socialpracticecuny.org/wp-content/uploads/2024/11/IMG_20200923_184259030-Esther-Neff-scaled-e1731978402224.jpg
END:VEVENT
BEGIN:VEVENT
DTSTART;TZID=America/New_York:20241219T183000
DTEND;TZID=America/New_York:20241219T213000
DTSTAMP:20260424T121356
CREATED:20241129T141500Z
LAST-MODIFIED:20241129T141500Z
UID:4416-1734633000-1734643800@socialpracticecuny.org
SUMMARY:Mourning Machine
DESCRIPTION:Mourning Machine is a low-stakes participatory ritual designed to honor the history and resilience of the NYC theater community/ies during a time of uncertainty and reconfiguration. The event will feature Coffin Karaoke\, open mic eulogies\, lasagna\, drinks\, clown-tears\, and more. All are welcome. \nMourning Machine is part of an ongoing research & performance project about the “practice” of mourning. It is a communal strategy for healing from the harmful aspects of our profit-driven culture. \nThursday\, December 19th 6:30pm-9:30pm\nat the Martin E. Segal Theatre Center\n1st floor of the CUNY Graduate Center\n365 Fifth Ave\, New York\, NY 10016 \n\nEdge Effect is a “think and do tank” that creates participatory experiences for individuals to share knowledge across personal\, cultural\, and disciplinary boundaries. Co-founded by dramaturg Jess Applebaum and director/scenographer Nic Benacerraf\, EE’s process is deeply rooted in the edge-blurring practices of devised theater. Each project unites a polydisciplinary community to study a transcendent issue of our time\, who then creates original multimedia performances for new communities to deepen the investigation. \n*This project is made possible in part with funds from Creative Engagement\, a regrant program funded by DCLA\, NYSCA\, and the Howard Gilman Foundation\, and administered by LMCC.
URL:https://socialpracticecuny.org/event/mourning-machine/
LOCATION:The Segal Theatre\, The Graduate Center\, CUNY\, 365 Fifth Avenue\, New York\, NY\, 10016\, United States
CATEGORIES:In-Person
ATTACH;FMTTYPE=image/jpeg:https://socialpracticecuny.org/wp-content/uploads/2024/11/1-Mourning-Machine-Insta-Nicolas-Benacerraf-scaled-e1732888808385.jpeg
END:VEVENT
END:VCALENDAR