BEGIN:VCALENDAR
VERSION:2.0
PRODID:-//Social Practice CUNY - ECPv6.15.20//NONSGML v1.0//EN
CALSCALE:GREGORIAN
METHOD:PUBLISH
X-ORIGINAL-URL:https://socialpracticecuny.org
X-WR-CALDESC:Events for Social Practice CUNY
REFRESH-INTERVAL;VALUE=DURATION:PT1H
X-Robots-Tag:noindex
X-PUBLISHED-TTL:PT1H
BEGIN:VTIMEZONE
TZID:Europe/London
BEGIN:DAYLIGHT
TZOFFSETFROM:+0000
TZOFFSETTO:+0100
TZNAME:BST
DTSTART:20230326T010000
END:DAYLIGHT
BEGIN:STANDARD
TZOFFSETFROM:+0100
TZOFFSETTO:+0000
TZNAME:GMT
DTSTART:20231029T010000
END:STANDARD
BEGIN:DAYLIGHT
TZOFFSETFROM:+0000
TZOFFSETTO:+0100
TZNAME:BST
DTSTART:20240331T010000
END:DAYLIGHT
BEGIN:STANDARD
TZOFFSETFROM:+0100
TZOFFSETTO:+0000
TZNAME:GMT
DTSTART:20241027T010000
END:STANDARD
BEGIN:DAYLIGHT
TZOFFSETFROM:+0000
TZOFFSETTO:+0100
TZNAME:BST
DTSTART:20250330T010000
END:DAYLIGHT
BEGIN:STANDARD
TZOFFSETFROM:+0100
TZOFFSETTO:+0000
TZNAME:GMT
DTSTART:20251026T010000
END:STANDARD
END:VTIMEZONE
BEGIN:VTIMEZONE
TZID:America/New_York
BEGIN:DAYLIGHT
TZOFFSETFROM:-0500
TZOFFSETTO:-0400
TZNAME:EDT
DTSTART:20230312T070000
END:DAYLIGHT
BEGIN:STANDARD
TZOFFSETFROM:-0400
TZOFFSETTO:-0500
TZNAME:EST
DTSTART:20231105T060000
END:STANDARD
BEGIN:DAYLIGHT
TZOFFSETFROM:-0500
TZOFFSETTO:-0400
TZNAME:EDT
DTSTART:20240310T070000
END:DAYLIGHT
BEGIN:STANDARD
TZOFFSETFROM:-0400
TZOFFSETTO:-0500
TZNAME:EST
DTSTART:20241103T060000
END:STANDARD
BEGIN:DAYLIGHT
TZOFFSETFROM:-0500
TZOFFSETTO:-0400
TZNAME:EDT
DTSTART:20250309T070000
END:DAYLIGHT
BEGIN:STANDARD
TZOFFSETFROM:-0400
TZOFFSETTO:-0500
TZNAME:EST
DTSTART:20251102T060000
END:STANDARD
END:VTIMEZONE
BEGIN:VEVENT
DTSTART;TZID=Europe/London:20241005T140000
DTEND;TZID=Europe/London:20241005T180000
DTSTAMP:20260424T185325
CREATED:20240926T092829Z
LAST-MODIFIED:20240926T093034Z
UID:4080-1728136800-1728151200@socialpracticecuny.org
SUMMARY:Public Knowledge: The hidden hands of artistic (re)production
DESCRIPTION:
URL:https://camdenartcentre.org/whats-on/public-knowledge-the-hidden-hands-of-artistic-reproduction#new_tab
LOCATION:Camden Art Centre\, Arkwright Rd.\, London NW3 6DG\, United Kingdom
CATEGORIES:In-Person
ATTACH;FMTTYPE=image/jpeg:https://socialpracticecuny.org/wp-content/uploads/2024/09/Picture1-740x987-1.jpg
END:VEVENT
BEGIN:VEVENT
DTSTART;TZID=America/New_York:20241015T180000
DTEND;TZID=America/New_York:20241015T200000
DTSTAMP:20260424T185325
CREATED:20240926T092038Z
LAST-MODIFIED:20241001T144159Z
UID:4077-1729015200-1729022400@socialpracticecuny.org
SUMMARY:The Art of Activism and the Activism of Art
DESCRIPTION:
URL:https://docs.google.com/forms/d/e/1FAIpQLSd7pHyqtkdgrebYvQ2adwY9HyM-Kwj_VF141xhFek8G-v4M5A/viewform?usp=send_form#new_tab
LOCATION:James Gallery\, CUNY Graduate Center\, 365 Fifth Avenue\, NYC\, NYC\, NY\, United States
CATEGORIES:In-Person
ATTACH;FMTTYPE=image/jpeg:https://socialpracticecuny.org/wp-content/uploads/2024/09/art-and-activism-and-activism-art-640x361-1.jpg
END:VEVENT
BEGIN:VEVENT
DTSTART;TZID=America/New_York:20241022T163000
DTEND;TZID=America/New_York:20241022T163000
DTSTAMP:20260424T185325
CREATED:20241007T105558Z
LAST-MODIFIED:20241007T105628Z
UID:4103-1729614600-1729614600@socialpracticecuny.org
SUMMARY:we turn to time: Screening and Discussion
DESCRIPTION:
URL:https://kupferbergcenter.org/event/we-turn-to-time/#new_tab
LOCATION:Rosenthal Library Auditorium\, 65-30 Kissena Boulevard\, Queens\, NY\, 11367-1597\, United States
CATEGORIES:In-Person
ATTACH;FMTTYPE=image/jpeg:https://socialpracticecuny.org/wp-content/uploads/2024/10/we-turn-to-time-e1732020173716.jpg
END:VEVENT
END:VCALENDAR