BEGIN:VCALENDAR
VERSION:2.0
PRODID:-//Social Practice CUNY - ECPv6.15.20//NONSGML v1.0//EN
CALSCALE:GREGORIAN
METHOD:PUBLISH
X-ORIGINAL-URL:https://socialpracticecuny.org
X-WR-CALDESC:Events for Social Practice CUNY
REFRESH-INTERVAL;VALUE=DURATION:PT1H
X-Robots-Tag:noindex
X-PUBLISHED-TTL:PT1H
BEGIN:VTIMEZONE
TZID:UTC
BEGIN:STANDARD
TZOFFSETFROM:+0000
TZOFFSETTO:+0000
TZNAME:UTC
DTSTART:20230101T000000
END:STANDARD
END:VTIMEZONE
BEGIN:VEVENT
DTSTART;VALUE=DATE:20240512
DTEND;VALUE=DATE:20240901
DTSTAMP:20260425T011713
CREATED:20240528T232546Z
LAST-MODIFIED:20240528T232837Z
UID:2923-1715472000-1725148799@socialpracticecuny.org
SUMMARY:@ WORK
DESCRIPTION:
URL:https://socialpracticecuny.org/event/work/
LOCATION:New York Public Library\, 18 West 53rd Street\, New York\, NY\, 10019\, United States
CATEGORIES:In-Person
ATTACH;FMTTYPE=image/png:https://socialpracticecuny.org/wp-content/uploads/2024/05/53stNYPL.png
END:VEVENT
BEGIN:VEVENT
DTSTART;TZID=UTC:20240609T150000
DTEND;TZID=UTC:20240609T170000
DTSTAMP:20260425T011713
CREATED:20240519T201028Z
LAST-MODIFIED:20240519T202024Z
UID:2911-1717945200-1717952400@socialpracticecuny.org
SUMMARY:Resilience Thinking Walkscape
DESCRIPTION:
URL:https://www.thesegalcenter.org/prelude-in-parks-2024/resilience-thinking-walkscape#new_tab
LOCATION:Endale Arch\, Prospect Park\, 11 East Dr\, Brooklyn\, NY\, 11215\, United States
CATEGORIES:In-Person
ATTACH;FMTTYPE=application/pdf:https://socialpracticecuny.org/wp-content/uploads/2024/05/UPDATED-Prelude-parks-poster.pdf
ORGANIZER;CN="Rafael de Balanzo Joue":MAILTO:rbalanzoj@gmail.com
END:VEVENT
END:VCALENDAR