BEGIN:VCALENDAR
VERSION:2.0
PRODID:-//Social Practice CUNY - ECPv6.15.20//NONSGML v1.0//EN
CALSCALE:GREGORIAN
METHOD:PUBLISH
X-ORIGINAL-URL:https://socialpracticecuny.org
X-WR-CALDESC:Events for Social Practice CUNY
REFRESH-INTERVAL;VALUE=DURATION:PT1H
X-Robots-Tag:noindex
X-PUBLISHED-TTL:PT1H
BEGIN:VTIMEZONE
TZID:UTC
BEGIN:STANDARD
TZOFFSETFROM:+0000
TZOFFSETTO:+0000
TZNAME:UTC
DTSTART:20230101T000000
END:STANDARD
END:VTIMEZONE
BEGIN:VTIMEZONE
TZID:America/New_York
BEGIN:DAYLIGHT
TZOFFSETFROM:-0500
TZOFFSETTO:-0400
TZNAME:EDT
DTSTART:20230312T070000
END:DAYLIGHT
BEGIN:STANDARD
TZOFFSETFROM:-0400
TZOFFSETTO:-0500
TZNAME:EST
DTSTART:20231105T060000
END:STANDARD
BEGIN:DAYLIGHT
TZOFFSETFROM:-0500
TZOFFSETTO:-0400
TZNAME:EDT
DTSTART:20240310T070000
END:DAYLIGHT
BEGIN:STANDARD
TZOFFSETFROM:-0400
TZOFFSETTO:-0500
TZNAME:EST
DTSTART:20241103T060000
END:STANDARD
BEGIN:DAYLIGHT
TZOFFSETFROM:-0500
TZOFFSETTO:-0400
TZNAME:EDT
DTSTART:20250309T070000
END:DAYLIGHT
BEGIN:STANDARD
TZOFFSETFROM:-0400
TZOFFSETTO:-0500
TZNAME:EST
DTSTART:20251102T060000
END:STANDARD
END:VTIMEZONE
BEGIN:VEVENT
DTSTART;VALUE=DATE:20240207
DTEND;VALUE=DATE:20240406
DTSTAMP:20260425T040025
CREATED:20240225T223817Z
LAST-MODIFIED:20240225T224120Z
UID:2731-1707264000-1712361599@socialpracticecuny.org
SUMMARY:Community Engagements: The Finale of the 2023 SHARED DIALOGUE\, SHARED SPACE (SDSS)
DESCRIPTION:
URL:https://www.kafny.org/thefinaleofthe2023sdss#new_tab
LOCATION:Immigrant Social Services’ Storefront for Ideas\, 127 Walker Street\, New York\, NY\, 10013\, United States
CATEGORIES:In-Person
ATTACH;FMTTYPE=image/webp:https://socialpracticecuny.org/wp-content/uploads/2024/02/kaf.webp
END:VEVENT
BEGIN:VEVENT
DTSTART;TZID=UTC:20240402T110000
DTEND;TZID=UTC:20240402T123000
DTSTAMP:20260425T040025
CREATED:20240315T174559Z
LAST-MODIFIED:20240315T174559Z
UID:2778-1712055600-1712061000@socialpracticecuny.org
SUMMARY:PERFORMANCE AS WITNESS: RECOGNIZING THE RHETORIC THAT LEADS TO VIOLENCE
DESCRIPTION:
URL:https://us02web.zoom.us/webinar/register/WN_hUgJa99JRGmtzEV-VxWa9A#new_tab
LOCATION:The Harriet and Kenneth Kupferberg Holocaust Center
CATEGORIES:Virtual
ATTACH;FMTTYPE=application/pdf:https://socialpracticecuny.org/wp-content/uploads/2024/03/KHC-event-04-02-24-poster-Heather-Huggins.pdf
END:VEVENT
BEGIN:VEVENT
DTSTART;TZID=UTC:20240406T140000
DTEND;TZID=UTC:20240406T170000
DTSTAMP:20260425T040025
CREATED:20240405T224930Z
LAST-MODIFIED:20240405T225351Z
UID:2817-1712412000-1712422800@socialpracticecuny.org
SUMMARY:Unconference and Book Launch
DESCRIPTION:
URL:https://docs.google.com/forms/d/e/1FAIpQLSdzQXNnqwtxoAYhpFV7iRzrOZCG5Y4JJtEEAquLvxD0-91fxw/viewform#new_tab
LOCATION:Store Front For Ideas\, 127 Walker Street\, New York\, NY\, 10013\, United States
CATEGORIES:In-Person
ATTACH;FMTTYPE=image/jpeg:https://socialpracticecuny.org/wp-content/uploads/2024/04/Flyer-Heng-Gil-Han.jpg
END:VEVENT
BEGIN:VEVENT
DTSTART;TZID=America/New_York:20240411T160000
DTEND;TZID=America/New_York:20240411T170000
DTSTAMP:20260425T040025
CREATED:20240312T164314Z
LAST-MODIFIED:20240417T075304Z
UID:2748-1712851200-1712854800@socialpracticecuny.org
SUMMARY:Online Info Session for Potential Actionists: Social Practice CUNY
DESCRIPTION:
URL:https://socialpracticecuny.org/actionist-info-session/#new_tab
LOCATION:Virtual\, See event for details
CATEGORIES:Virtual
ATTACH;FMTTYPE=image/jpeg:https://socialpracticecuny.org/wp-content/uploads/2024/03/SPCUNY-square.jpeg
ORGANIZER;CN="Social Practice CUNY":MAILTO:spcuny@gmail.com
END:VEVENT
BEGIN:VEVENT
DTSTART;VALUE=DATE:20240428
DTEND;VALUE=DATE:20240429
DTSTAMP:20260425T040025
CREATED:20240417T080226Z
LAST-MODIFIED:20240417T080226Z
UID:2840-1714262400-1714348799@socialpracticecuny.org
SUMMARY:CUNY graduate students: Apply to the open call for the 2024–25 SPCUNY Actionist Fellowship
DESCRIPTION:
URL:https://socialpracticecuny.org/spcuny-actionists-faq/
LOCATION:NY
ATTACH;FMTTYPE=image/png:https://socialpracticecuny.org/wp-content/uploads/2024/04/actionist-open-call.png
ORGANIZER;CN="Social Practice CUNY":MAILTO:spcuny@gmail.com
END:VEVENT
END:VCALENDAR