BEGIN:VCALENDAR
VERSION:2.0
PRODID:-//Social Practice CUNY - ECPv6.15.20//NONSGML v1.0//EN
CALSCALE:GREGORIAN
METHOD:PUBLISH
X-ORIGINAL-URL:https://socialpracticecuny.org
X-WR-CALDESC:Events for Social Practice CUNY
REFRESH-INTERVAL;VALUE=DURATION:PT1H
X-Robots-Tag:noindex
X-PUBLISHED-TTL:PT1H
BEGIN:VTIMEZONE
TZID:America/New_York
BEGIN:DAYLIGHT
TZOFFSETFROM:-0500
TZOFFSETTO:-0400
TZNAME:EDT
DTSTART:20220313T070000
END:DAYLIGHT
BEGIN:STANDARD
TZOFFSETFROM:-0400
TZOFFSETTO:-0500
TZNAME:EST
DTSTART:20221106T060000
END:STANDARD
BEGIN:DAYLIGHT
TZOFFSETFROM:-0500
TZOFFSETTO:-0400
TZNAME:EDT
DTSTART:20230312T070000
END:DAYLIGHT
BEGIN:STANDARD
TZOFFSETFROM:-0400
TZOFFSETTO:-0500
TZNAME:EST
DTSTART:20231105T060000
END:STANDARD
BEGIN:DAYLIGHT
TZOFFSETFROM:-0500
TZOFFSETTO:-0400
TZNAME:EDT
DTSTART:20240310T070000
END:DAYLIGHT
BEGIN:STANDARD
TZOFFSETFROM:-0400
TZOFFSETTO:-0500
TZNAME:EST
DTSTART:20241103T060000
END:STANDARD
END:VTIMEZONE
BEGIN:VTIMEZONE
TZID:UTC
BEGIN:STANDARD
TZOFFSETFROM:+0000
TZOFFSETTO:+0000
TZNAME:UTC
DTSTART:20220101T000000
END:STANDARD
END:VTIMEZONE
BEGIN:VEVENT
DTSTART;TZID=America/New_York:20230507T110000
DTEND;TZID=America/New_York:20230507T121500
DTSTAMP:20260425T204400
CREATED:20230504T141159Z
LAST-MODIFIED:20230504T141504Z
UID:2370-1683457200-1683461700@socialpracticecuny.org
SUMMARY:NYC & Medellin walk/dialogue: Nomad Indigenous Resilience Thinking Social-ecological Practice
DESCRIPTION:It is a life conversation and walk between two art collectives in a online format in New York (Urban Resilience Thinking Initiatives\, Rafael de Balanzo\, Christelle El Hage and Gerardo Santos) & Medellin (Espacio para Habitar\, Alix Camacho and Clara Arroyave) discussing between Vestigial traces of Indigenous in Medellin watershed (the Cerro Nutibarra and Medellin river) and the Matinecock and Canarsie tribes\, the first inhabitants of Flushing Bay and wetlands at Corona Meadows. \nParticipate on Zoom here.
URL:https://socialpracticecuny.org/event/nyc-medellin-walk-dialogue-nomad-indigenous-resilience-thinking-social-ecological-practice/
LOCATION:NY
CATEGORIES:Virtual
ATTACH;FMTTYPE=image/jpeg:https://socialpracticecuny.org/wp-content/uploads/2023/05/cerro-nutibara-y-pueblito-paisa-797390-Rafael-De-Balanzo-Joue.jpg
ORGANIZER;CN="Rafael de Balanzo Joue":MAILTO:rbalanzoj@gmail.com
END:VEVENT
BEGIN:VEVENT
DTSTART;TZID=UTC:20230510T180000
DTEND;TZID=UTC:20230510T180000
DTSTAMP:20260425T204400
CREATED:20230502T181016Z
LAST-MODIFIED:20230504T141605Z
UID:2359-1683741600-1683741600@socialpracticecuny.org
SUMMARY:Charting the Archive of Ancestral Histories and Place with artist Kamau Ware
DESCRIPTION:How do we build an inclusive archive? What are some archival practices and tools for affecting repair\, especially from the point of place? Join the conversation with Kamau Ware and Jennifer Jones\, as they consider archival research methodologies\, how they manifest in art practice\, and how these expanded histories may be used to create futures. \nKamau Ware develops narratives about African Diasporic history through photography\, films\, exhibitions\, and social practice. The Black Gotham Experience (BGX)\, an organization he founded in 2010\, utilizes art and walking tours to illustrate the impact of the African Diaspora in New York City. The Black Gotham Experience has been in residence in the Seaport District of Lower Manhattan since 2017\, serving as a gallery\, event space\, and visitor’s center for walks. \nJames Gallery Andrew W. Mellon Fellow and artist Jennifer Jones (Ph.D. Program in Art History and SPCUNY). Jones’ auto-ethnographic research is inspired by turn-of-the-century family photographs\, set in one of the first free Black settlements in NYC and one of the oldest continuously occupied settlements in the country. She is currently researching methods of research to highlight or unearth histories that are left out of traditional archives. \nRegistration is not required. \nCOVID-19/BUILDING ENTRY POLICY\nCUNY attendees must show proof of vaccination by presenting a valid CUNY Access Pass through the CLEARED4 health validation platform upon entry. Non-CUNY visitors will need to show proof of ID by presenting a valid government-issued photo document. See the full Building Entry Policy for more information.
URL:https://socialpracticecuny.org/event/charting-the-archive-of-ancestral-histories-and-place-with-artist-kamau-ware/
LOCATION:James Gallery\, CUNY Graduate Center\, 365 Fifth Avenue\, NYC\, NYC\, NY\, United States
ATTACH;FMTTYPE=image/jpeg:https://socialpracticecuny.org/wp-content/uploads/2023/05/0bf1bd2f-b4ea-01ac-619e-b96a6004ac76.jpg
END:VEVENT
BEGIN:VEVENT
DTSTART;TZID=UTC:20230525T170000
DTEND;TZID=UTC:20230525T183000
DTSTAMP:20260425T204400
CREATED:20230425T201218Z
LAST-MODIFIED:20230504T141651Z
UID:2339-1685034000-1685039400@socialpracticecuny.org
SUMMARY:Citation Needed Book Launch
DESCRIPTION:Artist Ari Wolff and The 14th Street Y are thrilled to announce the debut of Citation Needed\, an experimental publishing initiative designed to support and distribute artist books made by young people. Joined by the authors and open to the public\, the book launch will be May 25th\, 5:00–6:30 pm\, on the rooftop of the 14th Street Y. The evening will feature 10+ original titles created by 3rd–5th graders\, authors meet-and-greet\, and interactive games. \nThe Citation Needed book launch is the culmination of a year-long collaboration between Ari Wolff and the 14th Street Y\, in partnership with Social Practice CUNY and Printed Matter / St Marks. Copies of students’ artist books will be on display and available for purchase at Printed Matter / St Marks. A set of the books will also have a permanent home in the Artist Book Collection at the Center for Book Arts\, as the first works by children to be added to the collection. \n“The most incredible part of this process has been watching our workspace come together; we started with three students\, now we are at thirteen\,” said Ari Wolff. “They’ve taught each other how to use the typewriters and copier and how to problem solve when they get stuck. I feel really lucky to be included in this creative process.” \nThis project was incubated as an after school workspace\, in which young people were invited to experiment with visual poetry\, xerography\, typewriting\, and book arts. Embracing a process of chance\, many of the works created in this class were inspired through accidents. After many months of creation\, editing\, printing\, and binding\, the authors and illustrators are excited to share their work. These artist books are an opportunity to honor young people’s inner worlds\, autonomy\, and ability to create meaningful work that challenges oppressive systems\, demands of coherence\, and the status quo. \n### \nAbout Ari Wolff\nAri Wolff is a multidisciplinary artist\, writer\, and educator whose practice explores language as a visual object. Ari’s work proposes alternate modes of reading and seeing through mark-making\, xerography\, sculpture\, text\, and book arts. For the last decade\, Ari has worked with schools and community-based organizations to create process-based projects that meet at the intersection of art and literacy. Ari’s work has appeared at Longwood Gallery\, Plaxall Gallery\, Collar Works\, the Foundry\, and in POETRY Magazine\, among other places. Ari holds an MFA in Studio Art and Social Practice program from Queens College. \nAbout The 14th Street Y\nThe 14th Street Y is a vibrant community center grounded in the belief that contemporary Jewish sensibilities can be a source of inspiration\, connection\, and learning for the individuals and families we serve throughout New York City’s East Village and beyond. With a health and wellness center\, childhood\, parenting and adult education and enrichment programs\, and an innovative arts and culture department\, the 14Y is committed to the development of the whole person and bettering people’s lives by strengthening family connections and building inclusive and sustainable communities. The 14Y is part of Educational Alliance’s network of community centers in Lower Manhattan. We believe strong communities can transform lives. Our programs turn strangers into neighbors and provide New Yorkers access to quality education\, health and wellness services\, arts and culture\, and civic engagement opportunities. Learn more at 14StreetY.org. \nAbout Printed Matter / St Marks\nPrinted Matter is a non-profit dedicated to artist books. Printed Matter / St Marks\, their East Village bookstore\, focuses on books and programming that celebrate the history of avant garde art and countercultural publications in Lower Manhattan. They host a lively schedule of public events including book launches\, readings\, panel discussions\, performances and bookbinding workshops.
URL:https://socialpracticecuny.org/event/citation-needed-book-launch/
LOCATION:14 Street Y\, 344 E 14th Street\, New York\, NY\, 10003\, United States
ATTACH;FMTTYPE=image/jpeg:https://socialpracticecuny.org/wp-content/uploads/2023/04/Self-publishingcaruosel-Ari-Wolff-scaled.jpg
END:VEVENT
END:VCALENDAR