BEGIN:VCALENDAR
VERSION:2.0
PRODID:-//Social Practice CUNY - ECPv6.15.20//NONSGML v1.0//EN
CALSCALE:GREGORIAN
METHOD:PUBLISH
X-WR-CALNAME:Social Practice CUNY
X-ORIGINAL-URL:https://socialpracticecuny.org
X-WR-CALDESC:Events for Social Practice CUNY
REFRESH-INTERVAL;VALUE=DURATION:PT1H
X-Robots-Tag:noindex
X-PUBLISHED-TTL:PT1H
BEGIN:VTIMEZONE
TZID:America/New_York
BEGIN:DAYLIGHT
TZOFFSETFROM:-0500
TZOFFSETTO:-0400
TZNAME:EDT
DTSTART:20200308T070000
END:DAYLIGHT
BEGIN:STANDARD
TZOFFSETFROM:-0400
TZOFFSETTO:-0500
TZNAME:EST
DTSTART:20201101T060000
END:STANDARD
BEGIN:DAYLIGHT
TZOFFSETFROM:-0500
TZOFFSETTO:-0400
TZNAME:EDT
DTSTART:20210314T070000
END:DAYLIGHT
BEGIN:STANDARD
TZOFFSETFROM:-0400
TZOFFSETTO:-0500
TZNAME:EST
DTSTART:20211107T060000
END:STANDARD
BEGIN:DAYLIGHT
TZOFFSETFROM:-0500
TZOFFSETTO:-0400
TZNAME:EDT
DTSTART:20220313T070000
END:DAYLIGHT
BEGIN:STANDARD
TZOFFSETFROM:-0400
TZOFFSETTO:-0500
TZNAME:EST
DTSTART:20221106T060000
END:STANDARD
END:VTIMEZONE
BEGIN:VEVENT
DTSTART;TZID=America/New_York:20211116T160000
DTEND;TZID=America/New_York:20211116T173000
DTSTAMP:20260425T122507
CREATED:20211109T185629Z
LAST-MODIFIED:20211109T185759Z
UID:1378-1637078400-1637083800@socialpracticecuny.org
SUMMARY:Art and Archives: Creativity During COVID-19
DESCRIPTION:How do art and archives intersect? In this roundtable discussion\, member of the Queens College and NYC communities will discuss creative projects undertaken during COVID-19\, and their connections to primary sources and archival repositories. Livestreamed on https://www.facebook.com/queensmemory. \nChair: Annie Tummino\, Assistant Professor\, Head of Special Collections and Archives\, Queens College \nPanelists: \n\nEdisa Weeks\, Director of DELIRIOUS Dances and Acting Chair of the Queens College Department of Drama\, Theatre & Dance\nMembers of the What Will the Neighbors Say? Investigative Theatre Company\, Artists-In-Residence at Queens College\nJoyce LeeAnn\, Certified Archivist\, Interdisciplinary Artist\, and founder of Archival Alchemy®.\n\nSponsored by Queens College Library’s Department of Special Collections and Archives in cooperation with the Queens Memory Project\, the Kupferberg Center for the Arts\, the Queens College Department of Drama\, Theater\, and Dance\, and Social Practice CUNY. \nPart 3 of 3 of “Processing 2020/21: Community Reflections” \nImage: Photo of Edisa Weeks\, courtesy of Delirious Dances
URL:https://socialpracticecuny.org/event/art-and-archives-creativity-during-covid-19/
LOCATION:NY
CATEGORIES:Virtual
ATTACH;FMTTYPE=image/jpeg:https://socialpracticecuny.org/wp-content/uploads/2021/11/1632181111.jpeg
END:VEVENT
BEGIN:VEVENT
DTSTART;TZID=America/New_York:20211106T160000
DTEND;TZID=America/New_York:20211106T173000
DTSTAMP:20260425T122507
CREATED:20211104T085232Z
LAST-MODIFIED:20220317T172739Z
UID:1368-1636214400-1636219800@socialpracticecuny.org
SUMMARY:(END) Secession: An Invitation
DESCRIPTION:The Autonomous People of the Last Street End Make Music and Construct a Trash Flag \nA call to all autonomous people and living things! Embrace the radical possibility that for 90 minutes we can enjoy total freedom on 2nd avenue and 5th street in Gowanus. Show up on Saturday\, November 6th from 4-5:30pm for the last encounter of the Last Street End series. \nMusicians from the Experimental and Industrial worlds join to bring sound art and Butoh to the banks of the Canal\, with self-made instruments and discarded objects. \nWith Martin Bisi (producer Sonic Youth)\, Ego Sensation (White Hills)\, Bradford Reed\, Genevieve Fernworthy (Tidal Channel\, Billy Cancel)\, Lawry Zilmrah\, Jacquelyn Marie Shannon (Cookie Tongue). \nWhile the performance is taking place\, we invite participants to join in a communal declaration of the secession of the Last Street End from Gowanus (and thereby its rezone) by the creation of a found fabric trash flag which will be sewn collectively by all those who wish to add scrap\, found materials\, plants\, and thread to the (END) flag. The (END) flag will be raised at the conclusion of the performance to celebrate the autonomy of the people of the Last Street End\, before the encroaching CSO tank (and its steward\, the City of New York) erase this complex ecosystem and the living human and non-human beings who rely on it. \nThis event is the last of a series of four encounters that involve transforming an ecologically disturbed and contested public space through different kinds of “use.” Documentation produced by participants during / through each of the encounters will be integrated into a land use intervention library.
URL:https://socialpracticecuny.org/event/end-secession-an-invitation/
LOCATION:2nd Ave/5th St\, 2nd Ave and 5th St\, Brooklyn\, NY\, 11215\, United States
CATEGORIES:In-Person,Last Street End in Gowanus
ATTACH;FMTTYPE=image/png:https://socialpracticecuny.org/wp-content/uploads/2021/11/END-Secession-Story.png
END:VEVENT
BEGIN:VEVENT
DTSTART;TZID=America/New_York:20211023T150000
DTEND;TZID=America/New_York:20211023T150000
DTSTAMP:20260425T122507
CREATED:20210714T213004Z
LAST-MODIFIED:20220317T172755Z
UID:884-1635001200-1635001200@socialpracticecuny.org
SUMMARY:(Un)block Party
DESCRIPTION:Join Interference Archive and the weird art people who hang out at the last street end in Gowanus for an (Un)block Party on October 23rd at 3pm at 2nd Avenue and 5th Street. During this encounter\, we’ll be breaking out the mobile archive bike\, printmaking designs made by our friends at Shoestring Press\, swaying our hips to afternoon-noise-level music mixed by DJ j.lu\, and socializing with living humans and non-humans. Bring your friends and your kids and your dog and your best dance moves. Festive attire encouraged. \nThis event is the third of a series of four encounters that involve transforming an ecologically disturbed and contested public space through different kinds of “use.” Documentation produced by participants during / through each of the encounters will be integrated into a land use intervention library. \nThis project is partially supported by a grant from Social Practice CUNY\, an Andrew W. Mellon Foundation-supported initiative.
URL:https://socialpracticecuny.org/event/unblock-party/
LOCATION:2nd Ave/5th St\, 2nd Ave and 5th St\, Brooklyn\, NY\, 11215\, United States
CATEGORIES:In-Person,Last Street End in Gowanus
ATTACH;FMTTYPE=image/png:https://socialpracticecuny.org/wp-content/uploads/2021/07/UnblockPartyStory-1.png
END:VEVENT
BEGIN:VEVENT
DTSTART;TZID=America/New_York:20211016T190000
DTEND;TZID=America/New_York:20211016T190000
DTSTAMP:20260425T122507
CREATED:20211020T190951Z
LAST-MODIFIED:20211020T191338Z
UID:1354-1634410800-1634410800@socialpracticecuny.org
SUMMARY:Come Back Cities: a support group for Fathers with special needs children (first meeting)
DESCRIPTION:Come Back Cities: a support group for Fathers with special needs children is a safe space where Fathers could gather to share honest perspectives/experiences with each other; find fellowship and support with other Fathers raising special needs children; and participate in community art projects that honor the real experiences of Fathers with special needs children.  The goal is simple\, to create a space that works to empower Fathers in the lifelong process of raising our children with special needs.  In the Fall of 2021\, we will meet on a monthly basis via the Zoom video conferencing platform.  This will continue in the Winter/Spring of 2022 but we will also add more in-person community and art engagements where Fathers can come together.\n\nI am the Father of a 4 year old daughter who was diagnosed with Charge Syndrome and Deafblindness before she was 1.  Phoenix is my inspiration and I realize that I have a lot to open up about in raising a child with special needs.  I am extremely thankful for the community support from the New York Parent Association for Deafblind\, the Social Practice CUNY initiative and my MFA program at Brooklyn College – Performance & Interactive Media Arts.\n\nI am committed for life to my daughter\, my family and the collective empowerment of our families/communities.  Please consider joining me on Saturday\, Oct 16th\, 2021 @ 7:00pm est where Fathers can grab a beer or tea\, and talk!\n\nRSVP is required to ensure a safe space for all Fathers by emailing: jb.kilusan@gmail.com
URL:https://socialpracticecuny.org/event/come-back-cities-1/
LOCATION:NY
CATEGORIES:Virtual
ATTACH;FMTTYPE=application/pdf:https://socialpracticecuny.org/wp-content/uploads/2021/10/CBC_Fathers_Flyer2.pdf
ORGANIZER;CN="Kilusan Bautista":MAILTO:jb.kilusan@gmail.com
END:VEVENT
BEGIN:VEVENT
DTSTART;TZID=America/New_York:20211016T115000
DTEND;TZID=America/New_York:20211016T120000
DTSTAMP:20260425T122507
CREATED:20210714T221815Z
LAST-MODIFIED:20220918T175158Z
UID:891-1634385000-1634385600@socialpracticecuny.org
SUMMARY:END (Future)
DESCRIPTION:Our collective hearts will not be alone; weedy plants will help us at low-tide. With the weedy plants\, we will create questions for the NYC Department of Environmental Protection (DEP) and members of the City Council Subcommittee on Zoning and Franchises to consider as they plan for the Gowanus Canal CSO Retention Tank on Oh-4 site\, which bends west near the 4th street tuning basin. We will do this collectively through movement-oral listening facilitated by weedy plants\, andrea haenggi\, and Rachel Cole. We ask you to come to the last street end in Gowanus (2nd avenue and 5th street) on Oct 16th at 11:50am so you can hear the fullness of the edge at low tide. \nThis event is the second of a series of four encounters that involve transforming an ecologically disturbed and contested public space through different kinds of “use.” Documentation produced by participants during / through each of the encounters will be integrated into a land use intervention library.
URL:https://socialpracticecuny.org/event/end-future/
LOCATION:2nd Ave/5th St\, 2nd Ave and 5th St\, Brooklyn\, NY\, 11215\, United States
CATEGORIES:In-Person,Last Street End in Gowanus
ATTACH;FMTTYPE=image/png:https://socialpracticecuny.org/wp-content/uploads/2021/07/End-Future.png
END:VEVENT
END:VCALENDAR