BEGIN:VCALENDAR
VERSION:2.0
PRODID:-//Social Practice CUNY - ECPv6.15.20//NONSGML v1.0//EN
CALSCALE:GREGORIAN
METHOD:PUBLISH
X-WR-CALNAME:Social Practice CUNY
X-ORIGINAL-URL:https://socialpracticecuny.org
X-WR-CALDESC:Events for Social Practice CUNY
REFRESH-INTERVAL;VALUE=DURATION:PT1H
X-Robots-Tag:noindex
X-PUBLISHED-TTL:PT1H
BEGIN:VTIMEZONE
TZID:America/New_York
BEGIN:DAYLIGHT
TZOFFSETFROM:-0500
TZOFFSETTO:-0400
TZNAME:EDT
DTSTART:20240310T070000
END:DAYLIGHT
BEGIN:STANDARD
TZOFFSETFROM:-0400
TZOFFSETTO:-0500
TZNAME:EST
DTSTART:20241103T060000
END:STANDARD
BEGIN:DAYLIGHT
TZOFFSETFROM:-0500
TZOFFSETTO:-0400
TZNAME:EDT
DTSTART:20250309T070000
END:DAYLIGHT
BEGIN:STANDARD
TZOFFSETFROM:-0400
TZOFFSETTO:-0500
TZNAME:EST
DTSTART:20251102T060000
END:STANDARD
BEGIN:DAYLIGHT
TZOFFSETFROM:-0500
TZOFFSETTO:-0400
TZNAME:EDT
DTSTART:20260308T070000
END:DAYLIGHT
BEGIN:STANDARD
TZOFFSETFROM:-0400
TZOFFSETTO:-0500
TZNAME:EST
DTSTART:20261101T060000
END:STANDARD
END:VTIMEZONE
BEGIN:VEVENT
DTSTART;TZID=America/New_York:20250501T173000
DTEND;TZID=America/New_York:20250501T190000
DTSTAMP:20260424T104246
CREATED:20250426T072204Z
LAST-MODIFIED:20250507T165616Z
UID:4844-1746120600-1746126000@socialpracticecuny.org
SUMMARY:Corky Lee’s Asian America: 50 years of Photographic Justice
DESCRIPTION:On Thursday\, May 1st\, 2025 from 5:30pm – 7:00pm\, the Queens Public Library at Flushing will kick off Asian American Native Hawaiian Pacific Islander Heritage Month with a special paneled book talk on “Corky Lee’s Asian America: 50 years of Photographic Justice.” Moderated by the Jiefei Faye Yuan\, Curator of the Queens Memory Project\, this panel will include Chee Wang Ng (Co-Editor) and Virgo Lee (Member of the Estate of Corky Lee). We are honored to have opening remarks/reflections by New York Assembly Member Ron Kim and New York City Human Rights Commissioner Rocky Chin. \nJoin us for a dynamic community gathering to explore the concept of photographic justice through the late Corky Lee’s work. The panel has curated a slide show presentation\, coupled with an opportunity for guest’s questions and answers. We will be welcoming our community co-sponsors to table and share resource information in the spirit of Corky Lee’s activist roots. Community Co-Sponsors include: Chinese American Planning Council\, Nan Shan Older Adult Center of CPC\, Lewis Latimer House\, Rise Now Inc.\, the office of NY Assemblymember Ron Kim\, New York City Commission on Human Rights\, Forest Hills Asian Association; Social Practice CUNY\, the Estate of Corky Lee & the QPL AANHPI Heritage Month Committee. This program is made possible by the Starr Grant. Young Corky Lee (1947– 2021) was a Chinese American activist\, community organizer\, photographer\, journalist\, and the self-proclaimed unofficial Asian American Photographer Laureate. His work chronicled the diversity of Asian American culture. \nJoin us in-person at the Flushing Library\, Lower-Level Conference Room. 41-17 Main Street\, Flushing\, NY 11355 or via the Zoom platform: https://queenslib.org/37cd\nMeeting ID: 833 9180 7019\nPasscode: 383237 \nFor more information please contact Kilusan Bautista\, QPL at Flushing – Cultural Arts Outreach Coordinator – Jeremy.t.bautista@queenslibrary.org or call 718-6611200 Ext: 294.
URL:https://socialpracticecuny.org/event/4844/
LOCATION:Flushing Library\, 41-17 Main Street\, Flushing\, NY\, 11355\, United States
CATEGORIES:In-Person,Virtual
ATTACH;FMTTYPE=image/png:https://socialpracticecuny.org/wp-content/uploads/2025/04/CL-Flyer-Image-e1745651921706.png
END:VEVENT
BEGIN:VEVENT
DTSTART;TZID=America/New_York:20250529T190000
DTEND;TZID=America/New_York:20250529T210000
DTSTAMP:20260424T104246
CREATED:20250507T161827Z
LAST-MODIFIED:20250507T165526Z
UID:4884-1748545200-1748552400@socialpracticecuny.org
SUMMARY:Elevating Black Queer Ancestors: Embodying Black Queer Pasts\, Envisioning Black Queer Futures
DESCRIPTION:Elevating Black Queer Ancestors: Embodying Black Queer Pasts\, Envisioning Black Queer Futures is a workshop series that explores the role of embodied experience in recovering\, interpreting\, and reimagining the uses of Black queer histories. Hosted monthly at Lefferts House—a site marked by legacies of enslavement and the erasure of Black historical presences—the series examines how material culture and spatial narratives shape our understanding of the past. Participants will engage critically and creatively with historic spaces and objects to explore embodied strategies for disrupting dominant historical narratives and reclaiming marginalized stories. \nSessions will take place from 7PM-9PM at 452 Flatbush Ave in Prospect Park\, Brooklyn on the following dates: \nMay 29\, 2025\nJune 26\, 2025\nJuly 31\, 2025 \nTo RSVP\, please send an email to riah.kinsey@gmail.com expressing your interest.
URL:https://socialpracticecuny.org/event/elevating-black-queer-ancestors-embodying-black-queer-pasts-envisioning-black-queer-futures/
LOCATION:Lefferts Historic House\, 452 Flatbush Ave.\, Brooklyn\, NY\, United States
CATEGORIES:In-Person,Reclaiming Lyceums,Virtual
ATTACH;FMTTYPE=image/jpeg:https://socialpracticecuny.org/wp-content/uploads/2025/05/IMG_9298-Riah-Kinsey.jpg
END:VEVENT
END:VCALENDAR