BEGIN:VCALENDAR
VERSION:2.0
PRODID:-//Social Practice CUNY - ECPv6.15.20//NONSGML v1.0//EN
CALSCALE:GREGORIAN
METHOD:PUBLISH
X-ORIGINAL-URL:https://socialpracticecuny.org
X-WR-CALDESC:Events for Social Practice CUNY
REFRESH-INTERVAL;VALUE=DURATION:PT1H
X-Robots-Tag:noindex
X-PUBLISHED-TTL:PT1H
BEGIN:VTIMEZONE
TZID:America/New_York
BEGIN:DAYLIGHT
TZOFFSETFROM:-0500
TZOFFSETTO:-0400
TZNAME:EDT
DTSTART:20210314T070000
END:DAYLIGHT
BEGIN:STANDARD
TZOFFSETFROM:-0400
TZOFFSETTO:-0500
TZNAME:EST
DTSTART:20211107T060000
END:STANDARD
BEGIN:DAYLIGHT
TZOFFSETFROM:-0500
TZOFFSETTO:-0400
TZNAME:EDT
DTSTART:20220313T070000
END:DAYLIGHT
BEGIN:STANDARD
TZOFFSETFROM:-0400
TZOFFSETTO:-0500
TZNAME:EST
DTSTART:20221106T060000
END:STANDARD
BEGIN:DAYLIGHT
TZOFFSETFROM:-0500
TZOFFSETTO:-0400
TZNAME:EDT
DTSTART:20230312T070000
END:DAYLIGHT
BEGIN:STANDARD
TZOFFSETFROM:-0400
TZOFFSETTO:-0500
TZNAME:EST
DTSTART:20231105T060000
END:STANDARD
BEGIN:DAYLIGHT
TZOFFSETFROM:-0500
TZOFFSETTO:-0400
TZNAME:EDT
DTSTART:20240310T070000
END:DAYLIGHT
BEGIN:STANDARD
TZOFFSETFROM:-0400
TZOFFSETTO:-0500
TZNAME:EST
DTSTART:20241103T060000
END:STANDARD
BEGIN:DAYLIGHT
TZOFFSETFROM:-0500
TZOFFSETTO:-0400
TZNAME:EDT
DTSTART:20250309T070000
END:DAYLIGHT
BEGIN:STANDARD
TZOFFSETFROM:-0400
TZOFFSETTO:-0500
TZNAME:EST
DTSTART:20251102T060000
END:STANDARD
END:VTIMEZONE
BEGIN:VEVENT
DTSTART;TZID=America/New_York:20240220T180000
DTEND;TZID=America/New_York:20240220T190000
DTSTAMP:20260423T235454
CREATED:20240130T184309Z
LAST-MODIFIED:20240130T184309Z
UID:2649-1708452000-1708455600@socialpracticecuny.org
SUMMARY:Midtown South Community Coalition: Rent is Too Damned High
DESCRIPTION:Tue. Feb. 20 – 6 PM \nMidtown South Community Coalition: Rent is Too Damned High \nLocation: The People’s Forum 320 W 37th St\, New York\, NY 10018
URL:https://socialpracticecuny.org/event/midtown-south-community-coalition-rent-is-too-damned-high/
LOCATION:The People’s Forum\, 320 W 37th St\, New York\, NY\, 10018\, United States
CATEGORIES:In-Person,UnHomeless NYC
ATTACH;FMTTYPE=image/jpeg:https://socialpracticecuny.org/wp-content/uploads/2024/01/UnHomeless-2.jpg
END:VEVENT
BEGIN:VEVENT
DTSTART;TZID=America/New_York:20240208T173000
DTEND;TZID=America/New_York:20240208T210000
DTSTAMP:20260423T235454
CREATED:20240130T182030Z
LAST-MODIFIED:20240130T182631Z
UID:2635-1707413400-1707426000@socialpracticecuny.org
SUMMARY:Opening Reception and Screening of Uneven Growth
DESCRIPTION:Thu. Feb. 8 – 7 PM\nOpening Reception: Keynote Speaker\, Clyde Kuemmerle\nScreening: Uneven Growth\nPanel Discussion: Miguel Robles-Durán\, Shaindy Weichman\, Robert Robinson\nLocation: Hudson Guild 441 W. 26th St. New York NY 10001 \nPart of UnHomeless NYC \nHandicap accessible space
URL:https://socialpracticecuny.org/event/opening-reception-and-screening-of-uneven-growth/
LOCATION:Hudson Guild\, 441 W. 26th St.\, New York\, NY\, 10001\, United States
CATEGORIES:In-Person,UnHomeless NYC
ATTACH;FMTTYPE=image/jpeg:https://socialpracticecuny.org/wp-content/uploads/2024/01/UnHomeless-1-e1732020768906.jpg
END:VEVENT
BEGIN:VEVENT
DTSTART;TZID=America/New_York:20220414T150000
DTEND;TZID=America/New_York:20220414T163000
DTSTAMP:20260423T235454
CREATED:20220302T121903Z
LAST-MODIFIED:20220302T121903Z
UID:1544-1649948400-1649953800@socialpracticecuny.org
SUMMARY:WORKSHOP #3 (with BFAMFAPhD)
DESCRIPTION:WORKSHOP #3 \nBFAMFAPhD \nZoom (link will be sent after RSVP) \nPublic Event \nTo register please RSVP to Susan Jahoda susan.e.jahoda@gmail.com  \nIndicate which workshop(s)you will be attending. \n  \nThree Facilitated Workshops focus on the impact of food and housing precarity on the well-being of students at Kingsborough Community College. The first two workshops use Intergroup Dialogue—a deep listening practice that aims to highlight similarities and foster understanding among different groups. This final WORKSHOP #3 will be a public event on Zoom and will create a dialogue with other projects included in the UnHomeless NYC exhibition. \n  \nBFAMFAPhD is a collective that formed in 2012 to make art\, reports\, and teaching tools to advocate for cultural equity in the United States. The work of the collective is to bring people together to analyze and reimagine relationships of power in the arts. Among the group’s core members are Susan Jahoda\, Agnes Szanyi\, Vicky Virgin\, and Caroline Woolard.
URL:https://socialpracticecuny.org/event/workshop-3-with-bfamfaphd/
LOCATION:NY
CATEGORIES:UnHomeless NYC,Virtual
ATTACH;FMTTYPE=image/png:https://socialpracticecuny.org/wp-content/uploads/2021/12/UnHomeless-NYC-copy-Midori-Yamamura.png
END:VEVENT
BEGIN:VEVENT
DTSTART;TZID=America/New_York:20220408T170000
DTEND;TZID=America/New_York:20220408T183000
DTSTAMP:20260423T235454
CREATED:20220408T124103Z
LAST-MODIFIED:20220408T124103Z
UID:1632-1649437200-1649442600@socialpracticecuny.org
SUMMARY:Ignea: An Exchange About Nesting Technologies
DESCRIPTION:Ignea: An Exchange About Nesting Technologies gathers audiences around a built fire to talk about possible ways to inhabit the planet\, taking into account its scale\, interdependencies\, and temporalities. It proposes to rethink humanity’s relationship with fire\, energy\, and consumption.
URL:https://www.eventbrite.com/e/ignea-an-exchange-about-nesting-technologies-tickets-305034866497?utm-campaign=social&#038;utm-content=attendeeshare&#038;utm-medium=discovery&#038;utm-term=listing&#038;utm-source=cp&#038;aff=escb#new_tab
LOCATION:Kingsborough Art Museum\, 2001 Oriental Blvd.\, Brooklyn\, NY\, 11235\, United States
CATEGORIES:In-Person,UnHomeless NYC
ATTACH;FMTTYPE=image/png:https://socialpracticecuny.org/wp-content/uploads/2021/12/UnHomeless-NYC-copy-Midori-Yamamura.png
END:VEVENT
BEGIN:VEVENT
DTSTART;TZID=America/New_York:20220408T150000
DTEND;TZID=America/New_York:20220408T170000
DTSTAMP:20260423T235454
CREATED:20220408T123741Z
LAST-MODIFIED:20220408T123741Z
UID:1629-1649430000-1649437200@socialpracticecuny.org
SUMMARY:Ending Housing Precarity
DESCRIPTION:
URL:https://www.eventbrite.com/e/ending-housing-precarity-featuring-nyc-chief-housing-officer-jessica-katz-tickets-302282714737?utm-campaign=social&#038;utm-content=attendeeshare&#038;utm-medium=discovery&#038;utm-term=listing&#038;utm-source=cp&#038;aff=escb#new_tab
LOCATION:NY
CATEGORIES:In-Person,UnHomeless NYC,Virtual
ATTACH;FMTTYPE=image/png:https://socialpracticecuny.org/wp-content/uploads/2021/12/UnHomeless-NYC-copy-Midori-Yamamura.png
END:VEVENT
BEGIN:VEVENT
DTSTART;TZID=America/New_York:20220407T110000
DTEND;TZID=America/New_York:20220407T160000
DTSTAMP:20260423T235454
CREATED:20220302T121650Z
LAST-MODIFIED:20220302T121650Z
UID:1541-1649329200-1649347200@socialpracticecuny.org
SUMMARY:Upcycle\, Uplift with Sachigusa Yasuda
DESCRIPTION:Upcycle\, Uplift proposes a utopian solution to the current housing crisis by developing a line of recycled clothing created in workshops and remodeled based on the needs of homeless people. The participatory project invites the public to engage in deep listenings with homeless people\, opening themselves up to the complex issues that drive people to the street beyond the stereotypical assumptions. By designing and creating clothes that meet the needs of unhoused people\, Upcycle\, Uplift helps to restore dignity to those living on the street. Yasuda further tries to establish Upcycle\, Uplift as a clothing brand and discusses with college students and faculty members concepts for an alternative economic system that can distribute profits in more egalitarian ways.  \n  \nAbout Sachigusa Yasuda \nBorn and raised in Japan\, Yasuda moved to New York City in 2009 and has been creating artworks from the worldview of a woman and an ethnic minority.
URL:https://socialpracticecuny.org/event/upcycle-uplift-with-sachigusa-yasuda-2/
LOCATION:Kingsborough Art Museum\, 2001 Oriental Blvd.\, Brooklyn\, NY\, 11235\, United States
CATEGORIES:In-Person,UnHomeless NYC
ATTACH;FMTTYPE=image/png:https://socialpracticecuny.org/wp-content/uploads/2021/12/UnHomeless-NYC-copy-Midori-Yamamura.png
END:VEVENT
BEGIN:VEVENT
DTSTART;TZID=America/New_York:20220406T140000
DTEND;TZID=America/New_York:20220406T160000
DTSTAMP:20260423T235454
CREATED:20220302T121348Z
LAST-MODIFIED:20220302T122040Z
UID:1538-1649253600-1649260800@socialpracticecuny.org
SUMMARY:WORKSHOP #2 with BFAMFAPhD (invite only)
DESCRIPTION:WORKSHOP #2 \nBFAMFAPhD \nLocation: KAM\, Kingsborough Community College \nParticipants: 5 Administrators / Staff\, 5 Faculty\, ideally from workshop #1\, and 10 Students \nTo register please RSVP to Susan Jahoda susan.e.jahoda@gmail.com  \nIndicate which workshop(s) you will be attending. \nAlternative date if\, for some reason\, the in-person event cannot be held: April 8\, 2–4 p.m. (Zoom) \n  \nThree Facilitated Workshops focus on the impact of food and housing precarity on the well-being of students at Kingsborough Community College. The first two workshops use Intergroup Dialogue—a deep listening practice that aims to highlight similarities and foster understanding among different groups. The third workshop will be open to the public.  \nBFAMFAPhD is a collective that formed in 2012 to make art\, reports\, and teaching tools to advocate for cultural equity in the United States. The work of the collective is to bring people together to analyze and reimagine relationships of power in the arts. Among the group’s core members are Susan Jahoda\, Agnes Szanyi\, Vicky Virgin\, and Caroline Woolard.
URL:https://socialpracticecuny.org/event/workshop-2-with-bfamfaphd/
LOCATION:Kingsborough Art Museum\, 2001 Oriental Blvd.\, Brooklyn\, NY\, 11235\, United States
CATEGORIES:In-Person,UnHomeless NYC
ATTACH;FMTTYPE=image/png:https://socialpracticecuny.org/wp-content/uploads/2021/12/UnHomeless-NYC-copy-Midori-Yamamura.png
END:VEVENT
BEGIN:VEVENT
DTSTART;TZID=America/New_York:20220405T160000
DTEND;TZID=America/New_York:20220405T173000
DTSTAMP:20260423T235454
CREATED:20220302T121047Z
LAST-MODIFIED:20220302T121047Z
UID:1535-1649174400-1649179800@socialpracticecuny.org
SUMMARY:The Artist & Homeless Collective (discussion)
DESCRIPTION:THE ARTIST & HOMELESS COLLECTIVE \nHope Sandrow (artist) \nDiscussant\, Nina Felshin (editor of But Is it Art? The Spirit of Art and Activism) \nZoom \nContact myamamura3524@gmail.com for login info \nIn the early 1990s\, conceptual artist Hope Sandrow founded the Artist & Homeless Collaborative\, an innovative New York City public art project. Combining elements of grassroots activity with media techniques\, she worked with homeless women living at the Lenox Hill Women’s Mental Health Shelter at the Park Avenue Armory and several New York artists\, exploring the transformative potential of art in public and private life. Together with volunteers from the art world and activist groups including the Guerrilla Girls\, Women’s Action Coalition\, and Visual AIDS\, the women residents called attention to their experiences through exhibitions\, published work\, and activist poster projects. Sandrow will discuss her project with Nina Felshin\, the editor of But Is it Art? The Spirit of Art as Activism (Seattle\, WA; Bay Press\, 1995).
URL:https://socialpracticecuny.org/event/the-artist-homeless-collective-discussion/
LOCATION:NY
CATEGORIES:UnHomeless NYC,Virtual
ATTACH;FMTTYPE=image/png:https://socialpracticecuny.org/wp-content/uploads/2021/12/UnHomeless-NYC-copy-Midori-Yamamura.png
END:VEVENT
BEGIN:VEVENT
DTSTART;TZID=America/New_York:20220331T160000
DTEND;TZID=America/New_York:20220331T170000
DTSTAMP:20260423T235454
CREATED:20220302T120733Z
LAST-MODIFIED:20220302T120733Z
UID:1532-1648742400-1648746000@socialpracticecuny.org
SUMMARY:How to Begin Again: An Initiation Towards Unitary Urbanism
DESCRIPTION:HOW TO BEGIN AGAIN: AN INITIATION TOWARDS UNITARY URBANISM \nMiguel Robles-Durán (Cohabitation Strategies) \nZoom \n  \nCohStra’s Venice Architecture Biennale piece\, How to Begin Again: An Initiation Towards Unitary Urbanism\, is a response to the question curator Hashim Sarkis posed\, “How will we live together” in the midst of global crises like climate change\, wealth inequality\, mass migrations\, political polarization\, and now pandemics? The current state of global\, neoliberal urbanization exploits communities\, cultures\, and the environment. How to Begin Again is a 4-step initiation to a new awareness about alternatives for the future of urban design. It centers on the concept of unitary urbanism\, which CohStra redefines as “an anti-capitalist and transdisciplinary practice that attempts to bridge popular and scientific knowledge to co-produce social and environmental justice in cities.” \nIn 2008\, the urbanist Miguel Robles-Durán\, together with his work partners Lucia Babina\, Emiliano Gandolfi\, and Gabriela Rendón\, founded Stichting Cohabitation Strategies (CohStra)\, an international nonprofit cooperative for socio-spatial research and development based in Rotterdam and New York City. CohStra focuses on conditions of urban decline\, inequality\, and segregation within the contemporary city. The group developed and designed over a dozen transdisciplinary urban projects in Europe\, Asia\, North America\, and South America\, utilizing different methodologies to structure frameworks that catalyze grassroots-led transformations.
URL:https://socialpracticecuny.org/event/how-to-begin-again-an-initiation-towards-unitary-urbanism/
LOCATION:NY
CATEGORIES:UnHomeless NYC,Virtual
ATTACH;FMTTYPE=image/png:https://socialpracticecuny.org/wp-content/uploads/2021/12/UnHomeless-NYC-copy-Midori-Yamamura.png
END:VEVENT
BEGIN:VEVENT
DTSTART;TZID=America/New_York:20220329T133000
DTEND;TZID=America/New_York:20220329T143000
DTSTAMP:20260423T235454
CREATED:20220302T120446Z
LAST-MODIFIED:20220302T120446Z
UID:1529-1648560600-1648564200@socialpracticecuny.org
SUMMARY:The Anti-Eviction Mapping Project (lecture)
DESCRIPTION:THE ANTI-EVICTION MAPPING PROJECT AND OUR METHODOLOGIES \nManon Vergerio \nZoom \nEmail myamamura3524@gmail.com for login info \n  \nIn this talk\, critical urbanist Manon Vergerio will give a brief background on the Anti-Eviction Mapping Project (AEMP)\, a web-based interactive mapping project that personalizes eviction data through the evictees’ stories of struggle and resistance. She will discuss how the multimedia collective uses oral history and mapping for housing activism. Participants will listen to a few short clips from the AEMP’s oral history archive and reflect on them through a series of prompts as a way to learn about displacement\, housing\, and organizing. \nManon Vergerio is an organizer and a critical urbanist whose practice draws across disciplines to illuminate and organize around urban justice issues. Vergerio is a co-founder of the NYC chapter of the Anti-Eviction Mapping Project (AEMP).
URL:https://socialpracticecuny.org/event/the-anti-eviction-mapping-project-lecture/
LOCATION:NY
CATEGORIES:UnHomeless NYC,Virtual
ATTACH;FMTTYPE=image/png:https://socialpracticecuny.org/wp-content/uploads/2021/12/UnHomeless-NYC-copy-Midori-Yamamura.png
END:VEVENT
BEGIN:VEVENT
DTSTART;TZID=America/New_York:20220325T140000
DTEND;TZID=America/New_York:20220325T160000
DTSTAMP:20260423T235454
CREATED:20220302T120052Z
LAST-MODIFIED:20220302T120052Z
UID:1526-1648216800-1648224000@socialpracticecuny.org
SUMMARY:WORKSHOP #1 with BFAMFAPhD (invite only)
DESCRIPTION:Invite Only \nWORKSHOP #1  \nBFAMFAPhD   \nZoom (link will be sent after RSVP) \nParticipants: 10 Administrators / Staff and 10 Faculty \nTo register\, please RSVP to Susan Jahoda \nsusan.e.jahoda@gmail.com.  \nIndicate which workshop(s) you will be attending. \n  \nThree Facilitated Workshops focus on the impact of food and housing precarity on the well-being of students at Kingsborough Community College. The first two workshops use Intergroup Dialogue\, a deep listening practice that highlights similarities and fosters understanding among different groups. The third workshop will be open to the public. \n  \nBFAMFAPhD is a collective that formed in 2012 to make art\, reports\, and teaching tools to advocate for cultural equity in the United States. The work of the collective is to bring people together to analyze and reimagine relationships of power in the arts. Among the group’s core members are Susan Jahoda\, Agnes Szanyi\, Vicky Virgin\, and Caroline Woolard.
URL:https://socialpracticecuny.org/event/workshop-1-with-bfamfaphd-invite-only/
LOCATION:NY
CATEGORIES:UnHomeless NYC,Virtual
ATTACH;FMTTYPE=image/png:https://socialpracticecuny.org/wp-content/uploads/2021/12/UnHomeless-NYC-copy-Midori-Yamamura.png
END:VEVENT
BEGIN:VEVENT
DTSTART;TZID=America/New_York:20220324T133000
DTEND;TZID=America/New_York:20220324T143000
DTSTAMP:20260423T235454
CREATED:20220302T115605Z
LAST-MODIFIED:20220302T115605Z
UID:1523-1648128600-1648132200@socialpracticecuny.org
SUMMARY:Art / Activism / Context / Surveillance (Lecture)
DESCRIPTION:This lecture\, held on Zoom\, traces the development of Beirne’s activist art and performance practice in relation to some precedents in modern art history. Email myamamura3524@gmail.com for registration information. \nThe artist will present selections from his work since the early ’70s that address political and sociological concerns. Also\, Beirne will discuss the genesis and implementation of Priority Seating\, his participatory work created for the UnHomeless NYC exhibition\, with special attention to surveillance. \nBill Beirne currently lives and works in New York City. For more than four decades\, Beirne’s conceptual art has examined public space\, communication\, interactivity\, and sociological concerns through public performances. In addition to exhibitions in the US and in Eastern and Western Europe\, he was commissioned by the Madison Square Park Conservancy’s public art series\, Madison Square Art. In his video installation and performance Madison Square Trapezoids\, Beirne\,  as “The Vigilant Groundsman\,” performed absurdist lawn maintenance tasks within the boundaries of live surveillance-monitored areas of the park.
URL:https://socialpracticecuny.org/event/art-activism-context-surveillance-lecture/
LOCATION:NY
CATEGORIES:UnHomeless NYC,Virtual
ATTACH;FMTTYPE=image/png:https://socialpracticecuny.org/wp-content/uploads/2021/12/UnHomeless-NYC-copy-Midori-Yamamura.png
END:VEVENT
BEGIN:VEVENT
DTSTART;VALUE=DATE:20220317
DTEND;VALUE=DATE:20220318
DTSTAMP:20260423T235454
CREATED:20220302T115216Z
LAST-MODIFIED:20220302T115216Z
UID:1520-1647475200-1647561599@socialpracticecuny.org
SUMMARY:Three Public Events with Willie Baronet
DESCRIPTION:March 17\, 10–11 a.m. \nPublic Event \nWHAT IS HOME? \nWillie Baronet  \nKingsborough Art Museum \nIn person\, artist talk and signage-making workshop \n  \nMarch 17\, 1:30–3 p.m. \nPublic Event \nSIGNS OF HUMANITY \n2017 \nWillie Baronet \nArt & Science Building\, 163 \nIn person\, film screening and director’s talk \n  \nhttps://vimeo.com/221654766 \nSOHWAAH4 \n  \nSigns of Humanity is a documentary film that explores interrelated themes of home\, homelessness\, compassion\, and humanity. Willie Baronet has purchased more than 2\,000 homeless signs over the past twenty-seven years. He uses this collection to create installations to raise awareness about homelessness. During the month of July 2014\, Willie and three filmmakers drove across the country\, interviewing more than 100 people on the streets and purchasing over 280 signs. Signs of Humanity is a film about that trip. \n  \nMarch 17\, 3–4 p.m. \nPublic Event \nHOME IS A JOURNEY \nWillie Baronet  \nStarting from Kingsborough Art Museum \n  \nIn this event\, each participant will hold one homeless sign and march on campus to show their support for homeless people. \nhttps://www.facebook.com/events/306775864624572/ \n  \nAbout Willie Baronet \nAfter a prolific career in advertising design\, Willie Baronet began creating art out of homeless signs to raise public awareness on housing insecurity. Since 1993\, he has purchased more than 2\,000 signs from the homeless as part of a long-term art project titled\, We Are All Homeless.
URL:https://socialpracticecuny.org/event/three-public-events-with-willie-baronet/
LOCATION:Kingsborough Art Museum\, 2001 Oriental Blvd.\, Brooklyn\, NY\, 11235\, United States
CATEGORIES:In-Person,UnHomeless NYC
ATTACH;FMTTYPE=image/png:https://socialpracticecuny.org/wp-content/uploads/2021/12/UnHomeless-NYC-copy-Midori-Yamamura.png
END:VEVENT
BEGIN:VEVENT
DTSTART;TZID=America/New_York:20220316T140000
DTEND;TZID=America/New_York:20220316T190000
DTSTAMP:20260423T235454
CREATED:20220302T114117Z
LAST-MODIFIED:20220325T084208Z
UID:1517-1647439200-1647457200@socialpracticecuny.org
SUMMARY:Upcycle\, Uplift (Artist Workshop)
DESCRIPTION:This is an artist workshop with Upcycle\, Uplift\, which proposes a utopian solution to the current housing crisis by developing a line of recycled clothing created in workshops and remodeled based on the needs of homeless people. The participatory project invites the public to engage in deep listening with homeless people\, opening themselves up to the complex issues that drive people to the street beyond the stereotypical assumptions. By designing and creating clothes that meet the needs of unhoused people\, Upcycle\, Uplift helps to restore dignity to those living on the street. Yasuda further tries to establish Upcycle\, Uplift as a clothing brand and discusses concepts with college students and faculty members for an alternative economic system that can distribute profits in more egalitarian ways.  \n  \nAbout Sachigusa Yasuda \nBorn and raised in Japan\, Yasuda moved to New York City in 2009 and has been creating artworks from the worldview of a woman and an ethnic minority.
URL:https://socialpracticecuny.org/event/upcycle-uplift-with-sachigusa-yasuda/
LOCATION:Kingsborough Art Museum\, 2001 Oriental Blvd.\, Brooklyn\, NY\, 11235\, United States
CATEGORIES:In-Person,UnHomeless NYC
ATTACH;FMTTYPE=image/png:https://socialpracticecuny.org/wp-content/uploads/2021/12/UnHomeless-NYC-copy-Midori-Yamamura.png
END:VEVENT
BEGIN:VEVENT
DTSTART;TZID=America/New_York:20220309T150000
DTEND;TZID=America/New_York:20220309T190000
DTSTAMP:20260423T235454
CREATED:20220302T113500Z
LAST-MODIFIED:20220302T113718Z
UID:1512-1646838000-1646852400@socialpracticecuny.org
SUMMARY:UnHomeless NYC Opening Reception
DESCRIPTION:March 9\, 3–7 p.m.  \nPublic Event \nIn person \nOPENING RECEPTION  \n  \nProgram: \n  \n3–4 p.m.  \nGATHERING \n  \n4–5 p.m. \nOPENING REMARKS \nCurators: \nThomas Mintz \nJason Legget \nMaureen Connor \nMidori Yamamura \n  \nSTUDENTS WHO NEED HELP \nHattie Elmore \n  \nKEYNOTE SPEECH \n“The Right to Housing ‘Overcoming Homelessness– a Social Issue vs an Individual Problem’ “ \nRob Robinson\, Housing Activist \n  \n5-7 p.m.  \nIGNEA: AN EXCHANGE ABOUT NESTING TECHNOLOGIES \nBibi Calderaro \n  \nIgnea: An Exchange About Nesting Technologies gathers audiences around a built fire to talk about possible ways to inhabit the planet\, taking into account its scale\, interdependencies\, and temporalities. It proposes to rethink humanity’s relationship with fire\, energy\, and consumption. \n  \nBibi Calderaro is an artist and educator who engages in transdisciplinary practice in order to expand her audience’s perceptual capacities to foster reciprocal\, diverse\, and ethical relationships among life forms. Her work aims at building ecological solidarity within and beyond humanity.
URL:https://socialpracticecuny.org/event/unhomeless-nyc-opening-reception/
LOCATION:Kingsborough Art Museum\, 2001 Oriental Blvd.\, Brooklyn\, NY\, 11235\, United States
CATEGORIES:In-Person,UnHomeless NYC
ATTACH;FMTTYPE=image/png:https://socialpracticecuny.org/wp-content/uploads/2021/12/UnHomeless-NYC-copy-Midori-Yamamura.png
END:VEVENT
END:VCALENDAR