BEGIN:VCALENDAR
VERSION:2.0
PRODID:-//Social Practice CUNY - ECPv6.15.20//NONSGML v1.0//EN
CALSCALE:GREGORIAN
METHOD:PUBLISH
X-WR-CALNAME:Social Practice CUNY
X-ORIGINAL-URL:https://socialpracticecuny.org
X-WR-CALDESC:Events for Social Practice CUNY
REFRESH-INTERVAL;VALUE=DURATION:PT1H
X-Robots-Tag:noindex
X-PUBLISHED-TTL:PT1H
BEGIN:VTIMEZONE
TZID:America/New_York
BEGIN:DAYLIGHT
TZOFFSETFROM:-0500
TZOFFSETTO:-0400
TZNAME:EDT
DTSTART:20210314T070000
END:DAYLIGHT
BEGIN:STANDARD
TZOFFSETFROM:-0400
TZOFFSETTO:-0500
TZNAME:EST
DTSTART:20211107T060000
END:STANDARD
BEGIN:DAYLIGHT
TZOFFSETFROM:-0500
TZOFFSETTO:-0400
TZNAME:EDT
DTSTART:20220313T070000
END:DAYLIGHT
BEGIN:STANDARD
TZOFFSETFROM:-0400
TZOFFSETTO:-0500
TZNAME:EST
DTSTART:20221106T060000
END:STANDARD
BEGIN:DAYLIGHT
TZOFFSETFROM:-0500
TZOFFSETTO:-0400
TZNAME:EDT
DTSTART:20230312T070000
END:DAYLIGHT
BEGIN:STANDARD
TZOFFSETFROM:-0400
TZOFFSETTO:-0500
TZNAME:EST
DTSTART:20231105T060000
END:STANDARD
BEGIN:DAYLIGHT
TZOFFSETFROM:-0500
TZOFFSETTO:-0400
TZNAME:EDT
DTSTART:20240310T070000
END:DAYLIGHT
BEGIN:STANDARD
TZOFFSETFROM:-0400
TZOFFSETTO:-0500
TZNAME:EST
DTSTART:20241103T060000
END:STANDARD
END:VTIMEZONE
BEGIN:VEVENT
DTSTART;TZID=America/New_York:20230624T170000
DTEND;TZID=America/New_York:20230624T190000
DTSTAMP:20260424T040049
CREATED:20230310T124219Z
LAST-MODIFIED:20230420T142832Z
UID:2201-1687626000-1687633200@socialpracticecuny.org
SUMMARY:(In)Visible Guides: Convening
DESCRIPTION:Join Perfect City\, The Catcalling Project\, and SPCUNY Student Actionist Tiffany Zorrilla for a day-long convening of (In)Visible Guides. Programming includes a panel discussion\, mapping workshop\, zine release\, and a neighborhood tour of the Lower East Side.
URL:https://www.abronsartscenter.org/programs/invisible-guides-convening#new_tab
LOCATION:Abrons Arts Center\, 466 Grand St.\, New York\, NY\, 10002\, United States
CATEGORIES:The Catcalling Project
ATTACH;FMTTYPE=image/jpeg:https://socialpracticecuny.org/wp-content/uploads/2023/03/invisible-guides-convening.jpeg
END:VEVENT
BEGIN:VEVENT
DTSTART;TZID=America/New_York:20221203T130000
DTEND;TZID=America/New_York:20221203T160000
DTSTAMP:20260424T040049
CREATED:20221201T161928Z
LAST-MODIFIED:20221201T161928Z
UID:2059-1670072400-1670083200@socialpracticecuny.org
SUMMARY:Mapping & Photography Workshop presented by The Catcalling Project
DESCRIPTION:Co-organized by Tiffany Zorrilla (2022-23 SPCUNY Actionist) as part of her SPCUNY-supported project (IN)visible Guides\, and Jahmorei Snipes with whom she co-founded The Catcalling Project\, the workshop consist of a mapping and photography workshop; asking participants to think about their relation to space in ways that are both familiar and unfamiliar. The themes that will be explored are safety\, community\, and place making.\n\nThe workshop involves a photography session where resident artist Destiny Mata will help participants capture their perspective through still life.\n\nRSVPs requested due to limited space (first come\, first served): tiffanyzorrilla@gmail.com
URL:https://socialpracticecuny.org/event/mapping-photography-workshop-presented-by-the-catcalling-project/
LOCATION:Abrons Arts Center\, 466 Grand St.\, New York\, NY\, 10002\, United States
CATEGORIES:In-Person,The Catcalling Project
ATTACH;FMTTYPE=image/jpeg:https://socialpracticecuny.org/wp-content/uploads/2022/12/dec-3-workshop-scaled.jpeg
END:VEVENT
END:VCALENDAR