BEGIN:VCALENDAR
VERSION:2.0
PRODID:-//Social Practice CUNY - ECPv6.15.20//NONSGML v1.0//EN
CALSCALE:GREGORIAN
METHOD:PUBLISH
X-ORIGINAL-URL:https://socialpracticecuny.org
X-WR-CALDESC:Events for Social Practice CUNY
REFRESH-INTERVAL;VALUE=DURATION:PT1H
X-Robots-Tag:noindex
X-PUBLISHED-TTL:PT1H
BEGIN:VTIMEZONE
TZID:America/New_York
BEGIN:DAYLIGHT
TZOFFSETFROM:-0500
TZOFFSETTO:-0400
TZNAME:EDT
DTSTART:20220313T070000
END:DAYLIGHT
BEGIN:STANDARD
TZOFFSETFROM:-0400
TZOFFSETTO:-0500
TZNAME:EST
DTSTART:20221106T060000
END:STANDARD
BEGIN:DAYLIGHT
TZOFFSETFROM:-0500
TZOFFSETTO:-0400
TZNAME:EDT
DTSTART:20230312T070000
END:DAYLIGHT
BEGIN:STANDARD
TZOFFSETFROM:-0400
TZOFFSETTO:-0500
TZNAME:EST
DTSTART:20231105T060000
END:STANDARD
BEGIN:DAYLIGHT
TZOFFSETFROM:-0500
TZOFFSETTO:-0400
TZNAME:EDT
DTSTART:20240310T070000
END:DAYLIGHT
BEGIN:STANDARD
TZOFFSETFROM:-0400
TZOFFSETTO:-0500
TZNAME:EST
DTSTART:20241103T060000
END:STANDARD
END:VTIMEZONE
BEGIN:VEVENT
DTSTART;TZID=America/New_York:20230117T093000
DTEND;TZID=America/New_York:20230117T133000
DTSTAMP:20260424T013327
CREATED:20230114T130308Z
LAST-MODIFIED:20230114T130308Z
UID:2088-1673947800-1673962200@socialpracticecuny.org
SUMMARY:BARCELONA/MEDELLIN COMMUNITY WALK SOCIAL-ECOLOGICAL PRACTICE with SITESIZE (Barcelona)\, Tierra ESPACIO PARA HABITAR (Colombia) and URBAN RESILIENCE THINKING INITIATIVES (New York)
DESCRIPTION:Join us for the Barcelona and Medellin watersheds community walk on Tuesday 17th January 2023 included in the Nomad Resilience Thinking Social-ecological Practice Actions. This event will be held between Medellin and Barcelona using multimedia tools discussing how local vulnerable communities are linked and affected by their ecological systems\, specifically to their territorial freshwater creeks\, basins\, or sheds as fluent and symbolic natural elements for all communities. Participants could follow the events in a hybrid mode\, in-person walking or/and by zoom. \nCo-sponsored by Social Practice CUNY (SPCUNY). \nLocations to be announced. If you are interested in attending in-person\, send an email to rbalanzoj@gmail.com. \nOrganized by three artist collectives: \nSITESIZE (Barcelona)/Elvira Pujol and Joan Vila-Puig\nURBAN RESILIENCE THINKING INITIATIVES (New York)/Rafael de Balanzo Joue\nTierra ESPACIO PARA HABITAR (Medellin)/Alix Camacho
URL:https://socialpracticecuny.org/event/barcelona-medellin-community-walk-social-ecological-practice-with-sitesize-barcelona-tierra-espacio-para-habitar-colombia-and-urban-resilience-thinking-initiatives-new-york/
LOCATION:Barcelona and Medellin watersheds (contact for address)
CATEGORIES:In-Person,Nomad Resilience Thinking,Virtual
ATTACH;FMTTYPE=image/jpeg:https://socialpracticecuny.org/wp-content/uploads/2023/01/Ressonancies-1024x576-Rafael-De-Balanzo-Joue.jpeg
ORGANIZER;CN="Rafael de Balanzo Joue":MAILTO:rbalanzoj@gmail.com
END:VEVENT
END:VCALENDAR