BEGIN:VCALENDAR
VERSION:2.0
PRODID:-//Social Practice CUNY - ECPv6.15.20//NONSGML v1.0//EN
CALSCALE:GREGORIAN
METHOD:PUBLISH
X-WR-CALNAME:Social Practice CUNY
X-ORIGINAL-URL:https://socialpracticecuny.org
X-WR-CALDESC:Events for Social Practice CUNY
REFRESH-INTERVAL;VALUE=DURATION:PT1H
X-Robots-Tag:noindex
X-PUBLISHED-TTL:PT1H
BEGIN:VTIMEZONE
TZID:UTC
BEGIN:STANDARD
TZOFFSETFROM:+0000
TZOFFSETTO:+0000
TZNAME:UTC
DTSTART:20240101T000000
END:STANDARD
END:VTIMEZONE
BEGIN:VTIMEZONE
TZID:America/New_York
BEGIN:DAYLIGHT
TZOFFSETFROM:-0500
TZOFFSETTO:-0400
TZNAME:EDT
DTSTART:20240310T070000
END:DAYLIGHT
BEGIN:STANDARD
TZOFFSETFROM:-0400
TZOFFSETTO:-0500
TZNAME:EST
DTSTART:20241103T060000
END:STANDARD
BEGIN:DAYLIGHT
TZOFFSETFROM:-0500
TZOFFSETTO:-0400
TZNAME:EDT
DTSTART:20250309T070000
END:DAYLIGHT
BEGIN:STANDARD
TZOFFSETFROM:-0400
TZOFFSETTO:-0500
TZNAME:EST
DTSTART:20251102T060000
END:STANDARD
BEGIN:DAYLIGHT
TZOFFSETFROM:-0500
TZOFFSETTO:-0400
TZNAME:EDT
DTSTART:20260308T070000
END:DAYLIGHT
BEGIN:STANDARD
TZOFFSETFROM:-0400
TZOFFSETTO:-0500
TZNAME:EST
DTSTART:20261101T060000
END:STANDARD
END:VTIMEZONE
BEGIN:VEVENT
DTSTART;TZID=UTC:20250601T080000
DTEND;TZID=UTC:20250630T200000
DTSTAMP:20260424T071402
CREATED:20250605T164404Z
LAST-MODIFIED:20250605T164404Z
UID:5181-1748764800-1751313600@socialpracticecuny.org
SUMMARY:Memories: Souvenirs of Life Art Exhibition
DESCRIPTION:A Senior Adult Art Exhibition in Queens Public Library\, Flushing\, organized by ChrisTina Andersen (SPCUNY Fellow) and Kilusan Bautista (SPCUNY Fellow Alumni) QPL Director of Cultural Outreach. \nMemories: Souvenirs of Life showcases artwork by adults aged 65 to 90 created in oil painting classes taught by ChrisTina Andersen\, a Social Practice CUNY Fellow\, at senior centers in Queens. \nEach artist has painted a meaningful memory\, accompanied by a brief written reflection. Most are immigrants\, primarily from China\, Hong Kong as well as Puerto Rico\, Greece\, Taiwan\, Thailand\, Vietnam\, Indonesia\, Poland\, Israel and Brazil. This exhibition celebrates a vibrant yet often overlooked community\, challenging stereotypes around aging through creativity and storytelling. \nOpening Reception: \nFriday\, June 6th \n2:30 pm – 3:30pm \nin the lower level gallery \nOpen through the month of June
URL:https://socialpracticecuny.org/event/memories-souvenirs-of-life-art-exhibition/
LOCATION:Queens Public Library Flushing Branch\, 41-17 Main St. Flushing\, NY\, New York\, United States
CATEGORIES:In-Person
ATTACH;FMTTYPE=application/pdf:https://socialpracticecuny.org/wp-content/uploads/2025/06/Art-Exhibition_Memories_Souvenirs-of-Life_Flyer-ChrisTina-Andersen.pdf
END:VEVENT
BEGIN:VEVENT
DTSTART;TZID=America/New_York:20250605T163000
DTEND;TZID=America/New_York:20250605T180000
DTSTAMP:20260424T071402
CREATED:20250603T052203Z
LAST-MODIFIED:20250603T052250Z
UID:5006-1749141000-1749146400@socialpracticecuny.org
SUMMARY:Closing Reception and Artist Walkthrough for Give Light
DESCRIPTION:Closing Reception and Artist Walkthrough for Give Light: Labor Drawings\, Posters\, Art and Graphics from Movements Celebrating Labor History\, People’s Art\, and Popular Liberation \nThursday\, June 5 from 4:30-6pm \nCUNY School of Labor and Urban Studies \n25 West 43rd Street\, 14th floor \nEntrance is on the north side of 43rd Street (between 5th and 6th Aves) \nNY\, NY 10036 \nGive Light was organized as part of the conference “Labor and the Crisis of Democracy” held at CUNY SLU on May 8th and 9th. \nFeaturing current SPCUNY Fellows Ingrid Romero\, Jaclyn Reyes\, Annabelle Heckler\, and SPCUNY alum Alicia Grullón!
URL:https://socialpracticecuny.org/event/closing-reception-and-artist-walkthrough-for-give-light/
LOCATION:CUNY School of Labor and Urban Studies\, 25 W 43rd St\, New York\, NY\, 10036\, United States
CATEGORIES:In-Person
ATTACH;FMTTYPE=image/jpeg:https://socialpracticecuny.org/wp-content/uploads/2025/06/give-light-closing-reception-6-5-Annabelle-Heckler-scaled-e1748928097809.jpg
END:VEVENT
BEGIN:VEVENT
DTSTART;TZID=UTC:20250606T193000
DTEND;TZID=UTC:20250606T220000
DTSTAMP:20260424T071402
CREATED:20250519T155514Z
LAST-MODIFIED:20250519T155514Z
UID:4939-1749238200-1749247200@socialpracticecuny.org
SUMMARY:wav.pool
DESCRIPTION:Wav.pool is a sound and performance art series celebrating experimental audio. \nThis June\, we’ve gathered 3 artists making innovative work that blurs boundaries between sound\, performance\, and moving image: WARP DUO\, ADRIENE LILLY\, & KIA MIAKKA NATISSE all showcase and perform new audio artworks that promise to delight and challenge. \nWhen: Friday\, June 6th; \nDoors at 6:30\, show at 7:00pm \nWhere: KGB bar in the East Village \n  \nRSVP:
URL:https://socialpracticecuny.org/event/wav-pool/
LOCATION:KGB Bar\, 85 E 4th St\, NY\, United States
CATEGORIES:In-Person
ATTACH;FMTTYPE=image/png:https://socialpracticecuny.org/wp-content/uploads/2025/05/WAVPOOL4-new-Jess-Shane-scaled.png
END:VEVENT
BEGIN:VEVENT
DTSTART;TZID=America/New_York:20250607T190000
DTEND;TZID=America/New_York:20250607T200000
DTSTAMP:20260424T071402
CREATED:20250507T164226Z
LAST-MODIFIED:20250507T165520Z
UID:4911-1749322800-1749326400@socialpracticecuny.org
SUMMARY:*77*
DESCRIPTION:
URL:https://www.instagram.com/77_bk40thcouncildistrict#new_tab
LOCATION:NY
CATEGORIES:In-Person,Reclaiming Lyceums
ATTACH;FMTTYPE=image/png:https://socialpracticecuny.org/wp-content/uploads/2025/05/Screen-Shot-2025-05-07-at-6.29.09-PM.png
END:VEVENT
BEGIN:VEVENT
DTSTART;TZID=UTC:20250614T180000
DTEND;TZID=UTC:20250614T200000
DTSTAMP:20260424T071402
CREATED:20250613T003559Z
LAST-MODIFIED:20250613T003730Z
UID:5232-1749924000-1749931200@socialpracticecuny.org
SUMMARY:SDSS 2025 Community Forum #1 and SDSS 2024 Catalog Launch
DESCRIPTION:About Shared Dialogue\, Shared Space (SDSS) \nThis flagship initiative of the Korea Art Forum proudly commissions artists to create a series of socially engaged\, participatory art that culminates in public art installations in outdoor community hubs. The project focuses on serving (im)migrants\, people with disabilities\, and individuals facing economic hardship. Since its launch in 2020\, SDSS has integrated art into daily city life\, fostering dialogue between artists and the public while addressing various issues\, such as anti-Asian sentiment\, inequality\, and climate justice. SDSS promotes collaboration\, resilience\, and social change\, offering free\, accessible\, and immersive art events with live interpretation services. SDSS connects local communities to art\, which enhances their overall quality of life and well-being. \nAbout Korea Art Forum (KAF) \nFounded in New York City in 2013\, KAF is led by artists\, scholars\, and peacemakers committed to bridging the world through art. KAF supports artists’ social engagement\, enhancing people’s quality of life and well-being. We produce commissions\, exhibitions\, forums\, publications\, and art workshops to bring people together across the art world and beyond\, to share dialogues\, build an interconnected world\, and support inclusion\, diversity\, equity\, and accessibility (IDEA). \nTHANK YOU! \n2025 Shared Dialogue\, Shared Space (SDSS) in Flushing is supported\, in part\, with awards from the National Endowment for the Arts; public funds from the New York City Department of Cultural Affairs in partnership with the City Council; and is made possible by the New York State Council on the Arts with the support of the Office of the Governor and the New York State Legislature. Additional funding is provided by the Coalition for Asian American Children and Families (CACF). Media sponsorship is provided by the Korean Community Media Broadcasting (KCMB). We would like to extend our special thanks to our community partners\, including South Bronx Unite\, the Minkwon Center\, the NYC Department of Parks and Recreation\, the NYC Department of Transportation\, and NYC Council Members Vickie Paladino\, Sandra Ung\, and Julie Won\, for their support of KAF’s projects. \n  \nCommunity Forum #1 and SDSS 2024 Catalog Launch June 14\, 2025 \nSaturday\, 6 – 8 PM \nLiving Skin \n61 Wyckoff Ave \nBrooklyn\, NY 11237
URL:https://socialpracticecuny.org/event/sdss-2025-community-forum-1-and-sdss-2024-catalog-launch/
LOCATION:Living Skin\, 61 Wyckoff Ave\, Brooklyn\, 11237\, United States
CATEGORIES:In-Person
ATTACH;FMTTYPE=image/jpeg:https://socialpracticecuny.org/wp-content/uploads/2025/06/unnamed1-1.jpg
END:VEVENT
BEGIN:VEVENT
DTSTART;TZID=America/New_York:20250617T190000
DTEND;TZID=America/New_York:20250617T200000
DTSTAMP:20260424T071402
CREATED:20250507T164306Z
LAST-MODIFIED:20250507T165514Z
UID:4914-1750186800-1750190400@socialpracticecuny.org
SUMMARY:*77*
DESCRIPTION:
URL:https://www.instagram.com/77_bk40thcouncildistrict#new_tab
LOCATION:NY
CATEGORIES:In-Person,Reclaiming Lyceums
ATTACH;FMTTYPE=image/png:https://socialpracticecuny.org/wp-content/uploads/2025/05/Screen-Shot-2025-05-07-at-6.29.09-PM.png
END:VEVENT
BEGIN:VEVENT
DTSTART;TZID=UTC:20250618T190000
DTEND;TZID=UTC:20250618T203000
DTSTAMP:20260424T071402
CREATED:20250604T113936Z
LAST-MODIFIED:20250604T130351Z
UID:5056-1750273200-1750278600@socialpracticecuny.org
SUMMARY:Our Literacies Are Ambulatory: Freedom Zines as Pedagogical Backchannels
DESCRIPTION:During this interactive panel\, attendees will be presented with a brief history of the Sea Island Citizenship schools and the Mississippi Freedom Summer schools\, as well as a description of the Freedom Zines workshop. Attendees will also be asked to think about and discuss their early writing experiences by the panel moderator. Then\, Freedom Zines participants will discuss and share their zine-making process\, followed by a Q&A. Zines will also be distributed to all event attendees.
URL:https://socialpracticecuny.org/event/our-literacies-are-ambulatory-freedom-zines-as-pedagogical-backchannels/
LOCATION:The Word is Change Bookstore\, 368 Tompkins Ave. (at Putnam)\, Brooklyn\, NY\, 11216
CATEGORIES:In-Person
ATTACH;FMTTYPE=application/pdf:https://socialpracticecuny.org/wp-content/uploads/2025/06/Zine-Launch_-Freedom-Zines-Chy-Sprauve.pdf
END:VEVENT
BEGIN:VEVENT
DTSTART;TZID=America/New_York:20250626T190000
DTEND;TZID=America/New_York:20250626T210000
DTSTAMP:20260424T071402
CREATED:20250507T162013Z
LAST-MODIFIED:20250507T162013Z
UID:4893-1750964400-1750971600@socialpracticecuny.org
SUMMARY:Elevating Black Queer Ancestors: Embodying Black Queer Pasts\, Envisioning Black Queer Futures
DESCRIPTION:Elevating Black Queer Ancestors: Embodying Black Queer Pasts\, Envisioning Black Queer Futures is a workshop series that explores the role of embodied experience in recovering\, interpreting\, and reimagining the uses of Black queer histories. Hosted monthly at Lefferts House—a site marked by legacies of enslavement and the erasure of Black historical presences—the series examines how material culture and spatial narratives shape our understanding of the past. Participants will engage critically and creatively with historic spaces and objects to explore embodied strategies for disrupting dominant historical narratives and reclaiming marginalized stories. \nSessions will take place from 7PM-9PM at 452 Flatbush Ave in Prospect Park\, Brooklyn on the following dates: \nMay 29\, 2025\nJune 26\, 2025\nJuly 31\, 2025 \nTo RSVP\, please send an email to riah.kinsey@gmail.com expressing your interest.
URL:https://socialpracticecuny.org/event/elevating-black-queer-ancestors-embodying-black-queer-pasts-envisioning-black-queer-futures-2/
LOCATION:Lefferts Historic House\, 452 Flatbush Ave.\, Brooklyn\, NY\, United States
CATEGORIES:In-Person,Virtual
ATTACH;FMTTYPE=image/jpeg:https://socialpracticecuny.org/wp-content/uploads/2025/05/IMG_9298-Riah-Kinsey.jpg
END:VEVENT
BEGIN:VEVENT
DTSTART;TZID=America/New_York:20250627T190000
DTEND;TZID=America/New_York:20250627T200000
DTSTAMP:20260424T071402
CREATED:20250507T164349Z
LAST-MODIFIED:20250507T165457Z
UID:4917-1751050800-1751054400@socialpracticecuny.org
SUMMARY:*77*
DESCRIPTION:
URL:https://www.instagram.com/77_bk40thcouncildistrict#new_tab
LOCATION:NY
CATEGORIES:In-Person,Reclaiming Lyceums
ATTACH;FMTTYPE=image/png:https://socialpracticecuny.org/wp-content/uploads/2025/05/Screen-Shot-2025-05-07-at-6.29.09-PM.png
END:VEVENT
BEGIN:VEVENT
DTSTART;TZID=America/New_York:20250628T160000
DTEND;TZID=America/New_York:20250628T180000
DTSTAMP:20260424T071402
CREATED:20250620T113534Z
LAST-MODIFIED:20250620T113534Z
UID:5283-1751126400-1751133600@socialpracticecuny.org
SUMMARY:Kensington Windsor Terrace Mutual Aid Community Potluck and Recipe Share
DESCRIPTION:This event brings together neighbors participating in the long-running Neighborhood Cooperative Food Distribution Project of the Kensington-Windsor Terrace Mutual Aid network. The food project employs mutual aid principles to distribute local produce in a way that builds connections and relationships across our neighborhood’s immigrant communities\, language differences\, and economic situations. \nThe SPCUNY grant supports a community cookbook project that showcases neighbors’ recipes in English\, Spanish\, and Bangla – recipes for the seasonal produce we all share. The event is a community builder\, with a potluck and a recipe share. It will take place in a neighborhood backyard. It is wheelchair accessible\, although there will be some uneven ground. \nPlease email sofya.aptekar@gmail.com to RSVP.
URL:https://socialpracticecuny.org/event/kwtmapotluck/
LOCATION:Kensington backyard\, RSVP for info
CATEGORIES:In-Person
ATTACH;FMTTYPE=image/png:https://socialpracticecuny.org/wp-content/uploads/2025/06/potluck-flyer-Sof-A.png
END:VEVENT
END:VCALENDAR