BEGIN:VCALENDAR
VERSION:2.0
PRODID:-//Social Practice CUNY - ECPv6.15.20//NONSGML v1.0//EN
CALSCALE:GREGORIAN
METHOD:PUBLISH
X-WR-CALNAME:Social Practice CUNY
X-ORIGINAL-URL:https://socialpracticecuny.org
X-WR-CALDESC:Events for Social Practice CUNY
REFRESH-INTERVAL;VALUE=DURATION:PT1H
X-Robots-Tag:noindex
X-PUBLISHED-TTL:PT1H
BEGIN:VTIMEZONE
TZID:America/New_York
BEGIN:DAYLIGHT
TZOFFSETFROM:-0500
TZOFFSETTO:-0400
TZNAME:EDT
DTSTART:20240310T070000
END:DAYLIGHT
BEGIN:STANDARD
TZOFFSETFROM:-0400
TZOFFSETTO:-0500
TZNAME:EST
DTSTART:20241103T060000
END:STANDARD
BEGIN:DAYLIGHT
TZOFFSETFROM:-0500
TZOFFSETTO:-0400
TZNAME:EDT
DTSTART:20250309T070000
END:DAYLIGHT
BEGIN:STANDARD
TZOFFSETFROM:-0400
TZOFFSETTO:-0500
TZNAME:EST
DTSTART:20251102T060000
END:STANDARD
BEGIN:DAYLIGHT
TZOFFSETFROM:-0500
TZOFFSETTO:-0400
TZNAME:EDT
DTSTART:20260308T070000
END:DAYLIGHT
BEGIN:STANDARD
TZOFFSETFROM:-0400
TZOFFSETTO:-0500
TZNAME:EST
DTSTART:20261101T060000
END:STANDARD
END:VTIMEZONE
BEGIN:VTIMEZONE
TZID:UTC
BEGIN:STANDARD
TZOFFSETFROM:+0000
TZOFFSETTO:+0000
TZNAME:UTC
DTSTART:20240101T000000
END:STANDARD
END:VTIMEZONE
BEGIN:VEVENT
DTSTART;TZID=America/New_York:20250501T173000
DTEND;TZID=America/New_York:20250501T190000
DTSTAMP:20260424T083914
CREATED:20250426T072204Z
LAST-MODIFIED:20250507T165616Z
UID:4844-1746120600-1746126000@socialpracticecuny.org
SUMMARY:Corky Lee’s Asian America: 50 years of Photographic Justice
DESCRIPTION:On Thursday\, May 1st\, 2025 from 5:30pm – 7:00pm\, the Queens Public Library at Flushing will kick off Asian American Native Hawaiian Pacific Islander Heritage Month with a special paneled book talk on “Corky Lee’s Asian America: 50 years of Photographic Justice.” Moderated by the Jiefei Faye Yuan\, Curator of the Queens Memory Project\, this panel will include Chee Wang Ng (Co-Editor) and Virgo Lee (Member of the Estate of Corky Lee). We are honored to have opening remarks/reflections by New York Assembly Member Ron Kim and New York City Human Rights Commissioner Rocky Chin. \nJoin us for a dynamic community gathering to explore the concept of photographic justice through the late Corky Lee’s work. The panel has curated a slide show presentation\, coupled with an opportunity for guest’s questions and answers. We will be welcoming our community co-sponsors to table and share resource information in the spirit of Corky Lee’s activist roots. Community Co-Sponsors include: Chinese American Planning Council\, Nan Shan Older Adult Center of CPC\, Lewis Latimer House\, Rise Now Inc.\, the office of NY Assemblymember Ron Kim\, New York City Commission on Human Rights\, Forest Hills Asian Association; Social Practice CUNY\, the Estate of Corky Lee & the QPL AANHPI Heritage Month Committee. This program is made possible by the Starr Grant. Young Corky Lee (1947– 2021) was a Chinese American activist\, community organizer\, photographer\, journalist\, and the self-proclaimed unofficial Asian American Photographer Laureate. His work chronicled the diversity of Asian American culture. \nJoin us in-person at the Flushing Library\, Lower-Level Conference Room. 41-17 Main Street\, Flushing\, NY 11355 or via the Zoom platform: https://queenslib.org/37cd\nMeeting ID: 833 9180 7019\nPasscode: 383237 \nFor more information please contact Kilusan Bautista\, QPL at Flushing – Cultural Arts Outreach Coordinator – Jeremy.t.bautista@queenslibrary.org or call 718-6611200 Ext: 294.
URL:https://socialpracticecuny.org/event/4844/
LOCATION:Flushing Library\, 41-17 Main Street\, Flushing\, NY\, 11355\, United States
CATEGORIES:In-Person,Virtual
ATTACH;FMTTYPE=image/png:https://socialpracticecuny.org/wp-content/uploads/2025/04/CL-Flyer-Image-e1745651921706.png
END:VEVENT
BEGIN:VEVENT
DTSTART;TZID=America/New_York:20250501T190000
DTEND;TZID=America/New_York:20250501T210000
DTSTAMP:20260424T083914
CREATED:20241008T125536Z
LAST-MODIFIED:20241008T125536Z
UID:4126-1746126000-1746133200@socialpracticecuny.org
SUMMARY:What Else? A Comedy Show about the Solidarity Economy
DESCRIPTION:
URL:https://www.eventcreate.com/e/whatelse#new_tab
LOCATION:Maker’s Ensemble\, 13 Grattan St. #408\, Brooklyn\, NY\, 11206\, United States
CATEGORIES:In-Person
ATTACH;FMTTYPE=image/png:https://socialpracticecuny.org/wp-content/uploads/2024/10/1-Kendall-Allison.png
END:VEVENT
BEGIN:VEVENT
DTSTART;TZID=America/New_York:20250507T090000
DTEND;TZID=America/New_York:20250507T170000
DTSTAMP:20260424T083914
CREATED:20250507T154434Z
LAST-MODIFIED:20250507T154434Z
UID:4866-1746608400-1746637200@socialpracticecuny.org
SUMMARY:Give Light Labor Drawings\, Posters\, Art and Graphics from Movements Celebrating Labor History\, People’s Art\, and Popular Liberation
DESCRIPTION:
URL:https://slucuny.swoogo.com/8may2025#new_tab
LOCATION:CUNY School of Labor and Urban Studies\, 25 W 43rd St\, New York\, NY\, 10036\, United States
CATEGORIES:In-Person
ATTACH;FMTTYPE=image/jpeg:https://socialpracticecuny.org/wp-content/uploads/2025/05/062D484A-CE31-4553-A083-B3EF1ADB83FB-Annabelle-Heckler-1.jpg
END:VEVENT
BEGIN:VEVENT
DTSTART;TZID=America/New_York:20250508T090000
DTEND;TZID=America/New_York:20250508T170000
DTSTAMP:20260424T083914
CREATED:20250507T154537Z
LAST-MODIFIED:20250507T162035Z
UID:4872-1746694800-1746723600@socialpracticecuny.org
SUMMARY:Give Light Labor Drawings\, Posters\, Art and Graphics from Movements Celebrating Labor History\, People’s Art\, and Popular Liberation
DESCRIPTION:
URL:https://slucuny.swoogo.com/8may2025#new_tab
LOCATION:CUNY School of Labor and Urban Studies\, 25 W 43rd St\, New York\, NY\, 10036\, United States
CATEGORIES:In-Person
ATTACH;FMTTYPE=image/jpeg:https://socialpracticecuny.org/wp-content/uploads/2025/05/062D484A-CE31-4553-A083-B3EF1ADB83FB-Annabelle-Heckler-1.jpg
END:VEVENT
BEGIN:VEVENT
DTSTART;TZID=America/New_York:20250510T184500
DTEND;TZID=America/New_York:20250510T203000
DTSTAMP:20260424T083914
CREATED:20250507T155139Z
LAST-MODIFIED:20250507T155217Z
UID:4875-1746902700-1746909000@socialpracticecuny.org
SUMMARY:Blue Lightning Ghost Train: Inpatient Program 1
DESCRIPTION:@CPR DOUBLE FEATURE\nUnder the Hood: Fiducial Romance by geo blake\nBlue Lightning Ghost Train: Inpatient Program 1 by Kerosene Jones\nCPR – Center for Performance Research\nSaturday\, May 10 at 7:00 PM\nTickets $0-$25\, pay what you can. \nJoin us Saturday\, May 10 for a double feature of new performance works by geo blake and Kerosene Jones presented at CPR – Center for Performance Research\, for the artists’ MFA thesis projects in the Performance and Interactive Media Arts (PIMA) Program at Brooklyn College. Proceeds go to Bluestockings Cooperative\, who will be providing Fentanyl and Xylazine testing strips on-site to attendees. \nThrough an interplay of live performance and mediated fragments\, Under the Hood: Fiducial Romance\, by geo blake featuring Alanna Archibald\, examines the intimacy embedded in economies of care\, trust\, and extraction. Merging movement\, voice\, transducers\, and projected imagery\, and drawing from the iconography of the automobile as both a site of fetishization and labor\, Under the Hood engages with themes of objectification\, autonomy\, and the blurred lines between maintenance and possession. \nBlue Lightning Ghost Train: Inpatient Program 1 by Kerosene Jones is the first phase of an experimental song\, video\, and performance cycle using archival materials to explore queer responses to harm reduction\, particularly in regards to the ongoing opioid crisis\, and drawing from Jones’s personal experiences with opioid addiction. The development of the Blue Lightning Ghost Train series has received support from New York State Council on the Arts (NYSCA)\, and a CUNY Social Practice Fellowship\, and features mix engineering by Bassel Al-Rahim. \nTickets can be purchased here!
URL:https://socialpracticecuny.org/event/blue-lightning-ghost-train-inpatient-program-1/
LOCATION:Center for Performance Research
CATEGORIES:In-Person
ATTACH;FMTTYPE=image/jpeg:https://socialpracticecuny.org/wp-content/uploads/2025/05/Jones_Kerosene_BlueLightningGhostTrain_2025_Sample05-Kerosene-Jones.jpeg
END:VEVENT
BEGIN:VEVENT
DTSTART;TZID=America/New_York:20250517T190000
DTEND;TZID=America/New_York:20250517T200000
DTSTAMP:20260424T083914
CREATED:20250507T162944Z
LAST-MODIFIED:20250507T165541Z
UID:4902-1747508400-1747512000@socialpracticecuny.org
SUMMARY:*77*
DESCRIPTION:
URL:https://www.instagram.com/77_bk40thcouncildistrict#new_tab
LOCATION:NY
CATEGORIES:In-Person,Reclaiming Lyceums
ATTACH;FMTTYPE=image/png:https://socialpracticecuny.org/wp-content/uploads/2025/05/Screen-Shot-2025-05-07-at-6.29.09-PM.png
END:VEVENT
BEGIN:VEVENT
DTSTART;TZID=America/New_York:20250527T190000
DTEND;TZID=America/New_York:20250527T200000
DTSTAMP:20260424T083914
CREATED:20250507T164043Z
LAST-MODIFIED:20250507T165535Z
UID:4906-1748372400-1748376000@socialpracticecuny.org
SUMMARY:*77*
DESCRIPTION:
URL:https://www.instagram.com/77_bk40thcouncildistrict#new_tab
LOCATION:NY
CATEGORIES:In-Person,Reclaiming Lyceums
ATTACH;FMTTYPE=image/png:https://socialpracticecuny.org/wp-content/uploads/2025/05/Screen-Shot-2025-05-07-at-6.29.09-PM.png
END:VEVENT
BEGIN:VEVENT
DTSTART;TZID=America/New_York:20250529T190000
DTEND;TZID=America/New_York:20250529T210000
DTSTAMP:20260424T083914
CREATED:20250507T161827Z
LAST-MODIFIED:20250507T165526Z
UID:4884-1748545200-1748552400@socialpracticecuny.org
SUMMARY:Elevating Black Queer Ancestors: Embodying Black Queer Pasts\, Envisioning Black Queer Futures
DESCRIPTION:Elevating Black Queer Ancestors: Embodying Black Queer Pasts\, Envisioning Black Queer Futures is a workshop series that explores the role of embodied experience in recovering\, interpreting\, and reimagining the uses of Black queer histories. Hosted monthly at Lefferts House—a site marked by legacies of enslavement and the erasure of Black historical presences—the series examines how material culture and spatial narratives shape our understanding of the past. Participants will engage critically and creatively with historic spaces and objects to explore embodied strategies for disrupting dominant historical narratives and reclaiming marginalized stories. \nSessions will take place from 7PM-9PM at 452 Flatbush Ave in Prospect Park\, Brooklyn on the following dates: \nMay 29\, 2025\nJune 26\, 2025\nJuly 31\, 2025 \nTo RSVP\, please send an email to riah.kinsey@gmail.com expressing your interest.
URL:https://socialpracticecuny.org/event/elevating-black-queer-ancestors-embodying-black-queer-pasts-envisioning-black-queer-futures/
LOCATION:Lefferts Historic House\, 452 Flatbush Ave.\, Brooklyn\, NY\, United States
CATEGORIES:In-Person,Reclaiming Lyceums,Virtual
ATTACH;FMTTYPE=image/jpeg:https://socialpracticecuny.org/wp-content/uploads/2025/05/IMG_9298-Riah-Kinsey.jpg
END:VEVENT
BEGIN:VEVENT
DTSTART;TZID=UTC:20250531T150000
DTEND;TZID=UTC:20250531T170000
DTSTAMP:20260424T083914
CREATED:20250427T191832Z
LAST-MODIFIED:20250427T191832Z
UID:4851-1748703600-1748710800@socialpracticecuny.org
SUMMARY:Kensington Windsor Terrace Mutual Aid Community Potluck and Recipe Share
DESCRIPTION:This event brings together neighbors participating in the long-running Neighborhood Cooperative Food Distribution Project of the Kensington-Windsor Terrace Mutual Aid network. The food project employs mutual aid principles to distribute local produce in a way that builds connections and relationships across our neighborhood’s immigrant communities\, language differences\, and economic situations. \nThe SPCUNY grant supports a community cookbook project that showcases neighbors’ recipes in English\, Spanish\, and Bangla – recipes for the seasonal produce we all share. The event is a community builder\, with a potluck and a recipe share. It will take place in a neighborhood backyard. \nPlease email foodcoopproject@gmail.com to RSVP.
URL:https://socialpracticecuny.org/event/kensington-windsor-terrace-mutual-aid-community-potluck-and-recipe-share/
LOCATION:Kensington backyard\, RSVP for info
CATEGORIES:In-Person
ATTACH;FMTTYPE=image/jpeg:https://socialpracticecuny.org/wp-content/uploads/2025/04/Buttons-for-zine-Sof-A-e1750419053671.jpg
END:VEVENT
END:VCALENDAR