BEGIN:VCALENDAR
VERSION:2.0
PRODID:-//Social Practice CUNY - ECPv6.15.20//NONSGML v1.0//EN
CALSCALE:GREGORIAN
METHOD:PUBLISH
X-WR-CALNAME:Social Practice CUNY
X-ORIGINAL-URL:https://socialpracticecuny.org
X-WR-CALDESC:Events for Social Practice CUNY
REFRESH-INTERVAL;VALUE=DURATION:PT1H
X-Robots-Tag:noindex
X-PUBLISHED-TTL:PT1H
BEGIN:VTIMEZONE
TZID:UTC
BEGIN:STANDARD
TZOFFSETFROM:+0000
TZOFFSETTO:+0000
TZNAME:UTC
DTSTART:20210101T000000
END:STANDARD
END:VTIMEZONE
BEGIN:VTIMEZONE
TZID:America/New_York
BEGIN:DAYLIGHT
TZOFFSETFROM:-0500
TZOFFSETTO:-0400
TZNAME:EDT
DTSTART:20210314T070000
END:DAYLIGHT
BEGIN:STANDARD
TZOFFSETFROM:-0400
TZOFFSETTO:-0500
TZNAME:EST
DTSTART:20211107T060000
END:STANDARD
BEGIN:DAYLIGHT
TZOFFSETFROM:-0500
TZOFFSETTO:-0400
TZNAME:EDT
DTSTART:20220313T070000
END:DAYLIGHT
BEGIN:STANDARD
TZOFFSETFROM:-0400
TZOFFSETTO:-0500
TZNAME:EST
DTSTART:20221106T060000
END:STANDARD
BEGIN:DAYLIGHT
TZOFFSETFROM:-0500
TZOFFSETTO:-0400
TZNAME:EDT
DTSTART:20230312T070000
END:DAYLIGHT
BEGIN:STANDARD
TZOFFSETFROM:-0400
TZOFFSETTO:-0500
TZNAME:EST
DTSTART:20231105T060000
END:STANDARD
END:VTIMEZONE
BEGIN:VEVENT
DTSTART;VALUE=DATE:20220506
DTEND;VALUE=DATE:20220508
DTSTAMP:20260423T220537
CREATED:20220503T084951Z
LAST-MODIFIED:20220503T084951Z
UID:1680-1651795200-1651967999@socialpracticecuny.org
SUMMARY:Two Stories About the Same Miracle
DESCRIPTION:
URL:https://www.eventbrite.com/e/two-stories-about-the-same-miracle-tickets-311319283357#new_tab
CATEGORIES:Come Back Cities,In-Person
ATTACH;FMTTYPE=image/jpeg:https://socialpracticecuny.org/wp-content/uploads/2022/05/twostories.jpeg
END:VEVENT
BEGIN:VEVENT
DTSTART;TZID=America/New_York:20220424T120000
DTEND;TZID=America/New_York:20220424T150000
DTSTAMP:20260423T220537
CREATED:20220331T104539Z
LAST-MODIFIED:20220406T082047Z
UID:1612-1650801600-1650812400@socialpracticecuny.org
SUMMARY:Come Back Cities: A family event for the NY Deaf-Blind community
DESCRIPTION:Join us for a Sunday afternoon filled with arts and crafts activities\, theater games for youth/children\, and community resources that support the needs of Deaf-Blind youth and their families. Come Back Cities will provide a simultaneous in-person and virtual community gathering in a safe and accessible location in the Unisphere Gallery of the Queens Museum and on the Queens Museum’s website. \nTe invitamos a una tarde de domingo llena de actividades artísticas y de manualidades\, con juegos de teatro para jóvenes/niños y recursos comunitarios para apoyar las necesidades de los jóvenes sordociegos y sus familias. Come Back Cities proporcionará una reunión comunitaria simultánea en persona y virtual en un lugar seguro y accesible\, tanto en la Galería Unisphere del Museo de Queens\, como en el sitio web del Museo de Queens. \nAll people are welcome to attend this community-building opportunity for members of Deaf-Blind families to celebrate their experiences and stories. \nTodas las personas son bienvenidas a hacer parte de esta iniciativa para construir comunidad\, donde celebraremos las historias y las experiencias de las familias sordociegas. \n  \nREGISTRATION (Free) \nhttps://www.eventbrite.com/e/come-back-cities-tickets-302261892457 \n  \n‘Come Back Cities’ is spearheaded by the New York Parent Association for Deaf-Blind\, the Queens Museum\, and Brooklyn College MFA artist duo Kilusan Bautista and Lauren Zeftel. The event is also generously co-sponsored and supported by the Helen Keller National Center\, Social Practice CUNY and S.O.F.E.D.U.P. CUNY. \n‘Come Back Cities’ está encabezado por la Asociación de Padres de Sordociegos de Nueva York\, el Museo de Queens y el dúo de artista MFA de Brooklyn College\, Kilusan Bautista y Lauren Zeftel. El evento también cuenta con el generoso patrocinio y apoyo del Centro Nacional Helen Keller\, Social Practice CUNY y S.O.F.E.D.U.P. CUNY. \nFeaturing art activities lead by facilitators Ellie Bell\, Marlee Koenigsberg\, and Christian Paxton from the CUNY School of Professional Studies and other special guests to be announced. \nLas actividades artísticas serán dirigidas por los facilitadores: Ellie Bell\, Marlee Koenigsberg y Christian Paxton de la Escuela de Estudios Profesionales de CUNY y otros invitados especiales por anunciar. \n  \nDIRECTIONS / DIRECCIONES \nhttps://queensmuseum.org/directions \nSubway / Subterraneo \nPlease make sure to check the MTA website for the latest updates about changes to subway service. Please allot 15 minutes for the walk from either subway station to the museum.* \nAsegúrese de consultar el sitio web de la MTA para obtener las últimas actualizaciones sobre los cambios en el servicio de metro. Asigne 15 minutos para caminar desde cualquiera de las estaciones de metro hasta el museo.* \nFrom Mets-Willets Point (7 train) / Desde Mets-Willets Point (tren 7) \nCOVID Protocols \nFacemasks welcomed for in-person attendance!
URL:https://socialpracticecuny.org/event/come-back-cities/
LOCATION:Queens Museum\, Flushing Meadows Corona Park\, Queens\, NY\, 11368\, United States
CATEGORIES:Come Back Cities,In-Person,Virtual
ATTACH;FMTTYPE=image/png:https://socialpracticecuny.org/wp-content/uploads/2022/03/COME-BACK-CITIES-with-info.png
END:VEVENT
END:VCALENDAR